BEGIN:VCALENDAR
VERSION:2.0
PRODID:-//ChamberMaster//Event Calendar 2.0//EN
METHOD:PUBLISH
X-PUBLISHED-TTL:P3D
REFRESH-INTERVAL:P3D
CALSCALE:GREGORIAN
BEGIN:VEVENT
DTSTART:20220716T160000Z
DTEND:20220717T230000Z
X-MICROSOFT-CDO-ALLDAYEVENT:FALSE
SUMMARY:Adventure Van Expo: Eagle\, CO
DESCRIPTION:Open house vans\, DIY contest\, live music\, food trucks and camping!\n\nWe return to Colorado for our 4th year and this time it will be rolling to the Eagle County Fairgrounds! Join us July 16-17 for a family friendly weekend open to all ages celebrating the van life community and the opportunity to view over 50 van vendors.\n\nIn addition to all of the great van builds the event will feature live music\, food and local brews all weekend long. And those looking to show off their custom builds are encouraged to sign up for the DYI Contest where they will have their rigs viewed by hundreds of event goers and rated by van build experts.\n\nLooking to buy or sell? Expect to find roof racks\, bumpers\, solar panels\, interior storage\, water filters\, window coverings\, beds\, bedding\, and 4x4 recovery items .and of course coffee cups\, t-shirts and more!
X-ALT-DESC;FMTTYPE=text/html:<p>Open house vans\, DIY contest\, live music\, food trucks and camping!</p>\n\n<p>We return to Colorado for our 4th year and this time it will be rolling to the Eagle County Fairgrounds! Join us July 16-17 for a family friendly weekend open to all ages celebrating the van life community and the opportunity to view over 50 van vendors.</p>\n\n<p>In addition to all of the great van builds the event will feature live music\, food and local brews all weekend long. And those looking to show off their custom builds are encouraged to sign up for the DYI Contest where they will have their rigs viewed by hundreds of event goers and rated by van build experts.</p>\n\n<p>Looking to buy or sell? Expect to find roof racks\, bumpers\, solar panels\, interior storage\, water filters\, window coverings\, beds\, bedding\, and 4x4 recovery items&hellip\;.and of course coffee cups\, t-shirts and more!</p>\n
LOCATION:Eagle County Fairgrounds
UID:e.2268.1217
SEQUENCE:3
DTSTAMP:20260425T223925Z
URL:https://business.eaglechamber.co/events/details/adventure-van-expo-eagle-co-1217
END:VEVENT

END:VCALENDAR
