BEGIN:VCALENDAR
VERSION:2.0
PRODID:-//ChamberMaster//Event Calendar 2.0//EN
METHOD:PUBLISH
X-PUBLISHED-TTL:P3D
REFRESH-INTERVAL:P3D
CALSCALE:GREGORIAN
BEGIN:VEVENT
DTSTART:20220514T200000Z
DTEND:20220515T000000Z
X-MICROSOFT-CDO-ALLDAYEVENT:FALSE
SUMMARY:Bikes & BBQ
DESCRIPTION:About the Event\n\n\n\n \n\nJoin The Cycle Effect on Saturday\, May 14th for our SECOND ANNUAL POKER RIDE as part of our Bikes & BBQ event!\n\n \n\nLOCATION: \n\nThis event will start at the parking lot by Haymaker trailhead at 2pm. \n\n \n\nCOST: \n\n$10 for individuals or $20 for families.\n\n \n\nSTART TIME: \n\nThe Race will begin promptly at 2pm and all bikers will proceed to the designated "Card Stops" which will be located on the map provided at the start of the ride. After party at Moe's BBQ from 5pm to 8 pm! \n\n \n\n*YOU MUST REGISTER BY 3PM TO PARTICIPATE* \n\n \n\n \n\nHOW IT WORKS:  \n\n\n	Cards will be picked up one at a time at the designated stops on the Poker Ride Route. No duplicate cards can be used. Participants must draw an additional card if an identical card is drawn.\n	Up to three EXTRA CARDS may be purchased for $5 each at the final checkpoint before the 5pm deadline. \n	All participants MUST turn in their best 5 card poker hand by 4:00pm at the final pit stop. \n	In case of a tie\, there will be a draw for the High Card to determine the winner.\n	All decisions of the judges are FINAL!\n\n\n \n\n \n\nFINISH: \n\nAll participants MUST turn in their best 5 card poker hand by 5:00pm at the final pit stop.\n\n \n\nWinners will be announced at Moe's BBQ at 5:15pm\, located at 630 Grand Ave\, Eagle CO 81631. \n\n \n\n*Must be present to win.\n\n \n\n*Only cards that have been appropriately marked at each station will be allowed to compete for prizes!
X-ALT-DESC;FMTTYPE=text/html:<div>\n<div>\n<div>\n<h2 style="text-align:center">&nbsp\;</h2>\n\n<p>About the Event</p>\n\n<div style="text-align:center">\n<div>\n<p>&nbsp\;</p>\n\n<p><strong>Join The Cycle Effect on Saturday\, May 14th for our SECOND ANNUAL POKER RIDE as part of our Bikes &amp\; BBQ event!</strong></p>\n\n<p>&nbsp\;</p>\n\n<p><strong>LOCATION:</strong>&nbsp\;</p>\n\n<p>This event will start at the parking lot by Haymaker trailhead at 2pm.&nbsp\;</p>\n\n<p>&nbsp\;</p>\n\n<p><strong>COST:&nbsp\;</strong></p>\n\n<p>$10 for individuals or $20 for families.</p>\n\n<p>&nbsp\;</p>\n\n<p><strong>START TIME:</strong>&nbsp\;</p>\n\n<p>The Race will begin promptly at 2pm and all bikers will proceed to the designated &ldquo\;Card Stops&rdquo\; which will be located on the map provided at the start of the ride. After party at Moe&#39\;s BBQ from 5pm to 8 pm!&nbsp\;</p>\n\n<p>&nbsp\;</p>\n\n<p>*YOU MUST REGISTER BY 3PM TO PARTICIPATE*&nbsp\;</p>\n\n<p>&nbsp\;</p>\n\n<p>&nbsp\;</p>\n\n<p><strong>HOW IT WORKS:</strong>&nbsp\;&nbsp\;</p>\n\n<ul>\n	<li>Cards will be picked up one at a time at the designated stops on the Poker Ride Route. No duplicate cards can be used. Participants must draw an additional card if an identical card is drawn.</li>\n	<li>Up to three EXTRA CARDS may be purchased for $5 each at the final checkpoint before the 5pm deadline.&nbsp\;</li>\n	<li>All participants MUST turn in their best 5 card poker hand by 4:00pm at the final pit stop.&nbsp\;</li>\n	<li>In case of a tie\, there will be a draw for the High Card to determine the winner.</li>\n	<li>All decisions of the judges are FINAL!</li>\n</ul>\n\n<p>&nbsp\;</p>\n\n<p>&nbsp\;</p>\n\n<p><strong>FINISH:</strong>&nbsp\;</p>\n\n<p>All participants MUST turn in their best 5 card poker hand by 5:00pm at the final pit stop.<br />\n&nbsp\;</p>\n\n<p><strong>Winners will be announced at Moe&#39\;s BBQ at 5:15pm\, located at 630 Grand Ave\, Eagle CO 81631.&nbsp\;</strong></p>\n\n<p>&nbsp\;</p>\n\n<p>*Must be present to win.<br />\n&nbsp\;</p>\n\n<p>*<em>Only cards that have been appropriately marked at each station will be allowed to compete for prizes!&nbsp\;</em></p>\n</div>\n</div>\n</div>\n</div>\n</div>\n\n<div>\n<div>\n<div>&nbsp\;</div>\n</div>\n</div>\n
LOCATION:This event will start at the parking lot by Haymaker trailhead at 2 pm.
UID:e.2268.1175
SEQUENCE:3
DTSTAMP:20260426T015303Z
URL:https://business.eaglechamber.co/events/details/bikes-bbq-1175
END:VEVENT

END:VCALENDAR
