BEGIN:VCALENDAR
VERSION:2.0
PRODID:-//ChamberMaster//Event Calendar 2.0//EN
METHOD:PUBLISH
X-PUBLISHED-TTL:P3D
REFRESH-INTERVAL:P3D
CALSCALE:GREGORIAN
BEGIN:VEVENT
DTSTART:20221130T220000Z
DTEND:20221201T000000Z
X-MICROSOFT-CDO-ALLDAYEVENT:FALSE
SUMMARY:Board of Directors - Monthly Meeting
DESCRIPTION:The Eagle Chamber of Commerce Board of Director's meet monthly\, typically on the fourth Wednesday of the month. This meeting is open to the public. The building is locked. For this reason\, please call or text (970) 306-2262 when you arrive for access. \n\n\n\nThis meeting includes the Annual Meeting from 4:30 to 4:45 pm at which time the 2022 Financial Statement and the 2023 Program Plan will be presented.
X-ALT-DESC;FMTTYPE=text/html:The Eagle Chamber of Commerce Board of Director&#39\;s meet monthly\, typically on the fourth Wednesday of the month. This meeting is open to the public. The building is locked. For this reason\, please call or text (970) 306-2262 when you arrive for access.&nbsp\;<br />\n<br />\nThis meeting includes the Annual Meeting from 4:30 to 4:45 pm at which time the 2022 Financial Statement and the 2023 Program Plan will be presented.&nbsp\;
LOCATION:Eagle Information Center Chamber Headquarters is upstairs Please call or text (970) 306-2262 for entry
UID:e.2268.931
SEQUENCE:3
DTSTAMP:20260425T155726Z
URL:https://business.eaglechamber.co/events/details/board-of-directors-monthly-meeting-11-23-2022-931
END:VEVENT

END:VCALENDAR
