BEGIN:VCALENDAR
VERSION:2.0
PRODID:-//ChamberMaster//Event Calendar 2.0//EN
METHOD:PUBLISH
X-PUBLISHED-TTL:P3D
REFRESH-INTERVAL:P3D
CALSCALE:GREGORIAN
BEGIN:VEVENT
DTSTART:20221222T220000Z
DTEND:20221223T000000Z
X-MICROSOFT-CDO-ALLDAYEVENT:FALSE
SUMMARY:Board of Directors - Monthly Meeting
DESCRIPTION:
X-ALT-DESC;FMTTYPE=text/html:
LOCATION:Eagle Information Center Upstairs Committee Headquarters
UID:e.2268.932
SEQUENCE:3
DTSTAMP:20260425T142042Z
URL:https://business.eaglechamber.co/events/details/board-of-directors-monthly-meeting-12-28-2022-932
END:VEVENT

END:VCALENDAR
