BEGIN:VCALENDAR
VERSION:2.0
PRODID:-//ChamberMaster//Event Calendar 2.0//EN
METHOD:PUBLISH
X-PUBLISHED-TTL:P3D
REFRESH-INTERVAL:P3D
CALSCALE:GREGORIAN
BEGIN:VEVENT
DTSTART:20220718T234500Z
DTEND:20220719T003000Z
X-MICROSOFT-CDO-ALLDAYEVENT:FALSE
SUMMARY:Bootcamp In The Park
DESCRIPTION:Come to Centennial Park in Downtown Eagle on  Mondays at 5:45pm and join the community in an outdoor group workout that is a high-intensity class  focusing on body weight exercises\, as well as non-traditional exercises that could include weights\, to push the body to its limits. It is designed to be diversified and to train your body in multiple ways. The class format and instructor will change every week so be ready for anything!  This is held outside weather permitting. This class is free and welcome to anyone in the community.
X-ALT-DESC;FMTTYPE=text/html:<p><span style="background-color:transparent\; color:rgb(0\, 0\, 0)\; font-family:arial\; font-size:11pt">Come to Centennial Park in Downtown Eagle on&nbsp\; Mondays at 5:45pm and join the community in an outdoor group workout </span><span style="background-color:transparent\; color:rgb(0\, 0\, 0)\; font-family:verdana\; font-size:10.5pt">that is a high-intensity class&nbsp\; focusing on body weight exercises\, as well as non-traditional exercises that could include weights\, to push the body to its limits. It is designed to be diversified and to train your body in multiple ways. The class format and instructor will change every week so be ready for anything!&nbsp\; This is held outside weather permitting. </span><em>This class is free and welcome to anyone in the community.</em></p>\n\n<div>&nbsp\;</div>\n
LOCATION:Eagle Town Park 500-598 Washington St\, Eagle\, CO 81631
UID:e.2268.1187
SEQUENCE:3
DTSTAMP:20260425T224053Z
URL:https://business.eaglechamber.co/events/details/bootcamp-in-the-park-07-18-2022-1187
END:VEVENT

END:VCALENDAR
