BEGIN:VCALENDAR
VERSION:2.0
PRODID:-//ChamberMaster//Event Calendar 2.0//EN
METHOD:PUBLISH
X-PUBLISHED-TTL:P3D
REFRESH-INTERVAL:P3D
CALSCALE:GREGORIAN
BEGIN:VEVENT
DTSTART:20220706T000000Z
DTEND:20220706T020000Z
X-MICROSOFT-CDO-ALLDAYEVENT:FALSE
SUMMARY:Bravo! Vail + Habitat Vail Valley's Community Concert
DESCRIPTION:Enjoy a free performance! Bravo! Vail brings its Music Box for an evening of FREE music. This concert is perfect for families and children of all ages.       Bring lawn chairs or blankets for seating.? In case of inclement weather\, the performance will take place indoors at?Habitat ReStore Vail Valley\,?250 Lindbergh Drive\, Gypsum ++++++++++ Bravo! Vail nos comparte su Caja de M sica para un gran atardecer musical Evento Gratuito  Bravo! Vail y Habitat for Humanity Vail Valley presenta concierto comunitario perfecto para todas las familias en especial las que tienen ninos.   Traigase sus sillas de acampar o cobijas para sentarse en el zacate.  En caso de que el clima se ponga inclemente\, el concierto tomara lugar adentro de la tienda ReStore de Habitat\, domicilio 250 Lindbergh Drive\, Gypsum\, Colorado  Tuesday\, July 5 at 6 p.m.      Martes\, 5 de Julio a las 6 pm  Please register for this FREE event.   No olvide registrarse para este evento gratuito.
X-ALT-DESC;FMTTYPE=text/html:Enjoy a free performance! Bravo! Vail brings its Music Box for an evening of FREE music. This concert is perfect for families and children of all ages.&nbsp\; &nbsp\; &nbsp\;&nbsp\; Bring lawn chairs or blankets for seating.? In case of inclement weather\, the performance will take place indoors at?Habitat ReStore Vail Valley\,?250 Lindbergh Drive\, Gypsum ++++++++++ Bravo! Vail nos comparte su Caja de M&uacute\;sica para un gran atardecer musical Evento Gratuito&nbsp\; Bravo! Vail y Habitat for Humanity Vail Valley presenta concierto comunitario perfecto para todas las familias en especial las que tienen ninos.&nbsp\;&nbsp\; Traigase sus sillas de acampar o cobijas para sentarse en el zacate.&nbsp\;&nbsp\;En caso de que el clima se ponga inclemente\, el concierto tomara lugar adentro de la tienda ReStore de Habitat\, domicilio 250 Lindbergh Drive\, Gypsum\, Colorado&nbsp\; Tuesday\, July 5 at 6 p.m.&nbsp\;&nbsp\;&nbsp\;&nbsp\;&nbsp\; Martes\, 5 de Julio a las 6 pm&nbsp\; Please register for this FREE event. &nbsp\; No olvide registrarse para este evento gratuito.&nbsp\; &nbsp\;
LOCATION:Stratton Flats playground\, Gypsum\, CO
UID:e.2268.1216
SEQUENCE:3
DTSTAMP:20260426T003042Z
URL:https://business.eaglechamber.co/events/details/bravo-vail-habitat-vail-valley-s-community-concert-1216
END:VEVENT

END:VCALENDAR
