BEGIN:VCALENDAR
VERSION:2.0
PRODID:-//ChamberMaster//Event Calendar 2.0//EN
METHOD:PUBLISH
X-PUBLISHED-TTL:P3D
REFRESH-INTERVAL:P3D
CALSCALE:GREGORIAN
BEGIN:VEVENT
DTSTART:20150602T141500Z
DTEND:20150602T153000Z
X-MICROSOFT-CDO-ALLDAYEVENT:FALSE
SUMMARY:Coffee @ the Chamber
DESCRIPTION:Monthly coffees for members and staff to become acquainted and discuss issues and concerns.
X-ALT-DESC;FMTTYPE=text/html:Monthly coffees for members and staff to become acquainted and discuss issues and concerns.
LOCATION:Eagle Town Hall 200 Broadway\, Castle Conference Room Eagle\, CO
UID:e.2268.580
SEQUENCE:3
DTSTAMP:20260421T111615Z
URL:https://business.eaglechamber.co/events/details/coffee-the-chamber-06-02-2015-580
END:VEVENT

END:VCALENDAR
