BEGIN:VCALENDAR
VERSION:2.0
PRODID:-//ChamberMaster//Event Calendar 2.0//EN
METHOD:PUBLISH
X-PUBLISHED-TTL:P3D
REFRESH-INTERVAL:P3D
CALSCALE:GREGORIAN
BEGIN:VEVENT
DTSTART:20221207T170000Z
DTEND:20221207T180000Z
X-MICROSOFT-CDO-ALLDAYEVENT:FALSE
SUMMARY:CyberSecurity Webinar
DESCRIPTION:Our Cybersecurity Webinar Series continues with BUSINESS EMAIL COMPROMISE. This is one of the most financially damaging online crimes. Learn more about it and how to defend yourself against it. Register at https://bit.ly/3EUmugF
X-ALT-DESC;FMTTYPE=text/html:Our Cybersecurity Webinar Series continues with BUSINESS EMAIL COMPROMISE. This is one of the most financially damaging online crimes. Learn more about it and how to defend yourself against it. Register at https://bit.ly/3EUmugF
LOCATION:
UID:e.2268.1492
SEQUENCE:3
DTSTAMP:20260425T140531Z
URL:https://business.eaglechamber.co/events/details/cybersecurity-webinar-1492
END:VEVENT

END:VCALENDAR
