BEGIN:VCALENDAR
VERSION:2.0
PRODID:-//ChamberMaster//Event Calendar 2.0//EN
METHOD:PUBLISH
X-PUBLISHED-TTL:P3D
REFRESH-INTERVAL:P3D
CALSCALE:GREGORIAN
BEGIN:VEVENT
DTSTART:20220914T230000Z
DTEND:20220915T010000Z
X-MICROSOFT-CDO-ALLDAYEVENT:FALSE
SUMMARY:Eagle Chamber Adopt A Trail with Vail Valley Mountain Trails Alliance
DESCRIPTION:Join the Eagle Chamber Ambassadors\, led by Jessie Steinmetz of Edward Jones\, outside on the Trail for the Eagle Chamber's Adopt A Trail program to clean up Haymaker Trail! EVERYONE is invited to join in! Food\, Drinks\, Tools\, Dirt and Fun are included! Thank you to Pattie White of Alpine Snow Removal & Trucking for sponsoring the food and drink!
X-ALT-DESC;FMTTYPE=text/html:Join the Eagle Chamber Ambassadors\, led by Jessie Steinmetz of Edward Jones\, outside on the Trail for the Eagle Chamber&#39\;s Adopt A Trail program to clean up Haymaker Trail! EVERYONE is invited to join in! Food\, Drinks\, Tools\, Dirt and Fun are included! Thank you to Pattie White of Alpine Snow Removal &amp\; Trucking for sponsoring the food and drink!
LOCATION:Haymaker Trail in Eagle
UID:e.2268.1474
SEQUENCE:3
DTSTAMP:20260425T190402Z
URL:https://business.eaglechamber.co/events/details/eagle-chamber-adopt-a-trail-with-vail-valley-mountain-trails-alliance-1474
END:VEVENT

END:VCALENDAR
