BEGIN:VCALENDAR
VERSION:2.0
PRODID:-//ChamberMaster//Event Calendar 2.0//EN
METHOD:PUBLISH
X-PUBLISHED-TTL:P3D
REFRESH-INTERVAL:P3D
CALSCALE:GREGORIAN
BEGIN:VEVENT
DTSTART:20240215T003000Z
DTEND:20240215T013000Z
X-MICROSOFT-CDO-ALLDAYEVENT:FALSE
SUMMARY:Eagle Chamber Ambassador Meets
DESCRIPTION:Eagle Chamber of Colorado Ambassadors meet on the 2nd Wednesday of each month to discuss Chamber updates and strategize to support and strengthen Chamber services. This group of Ambassadors utilize the Eagle Chamber of Commerce's platform to build relationships\, develop referrals and increase their exposure into the business community. \n\n\n\nWhile it is required that Ambassadors are current Members of the Eagle Chamber\, non-Members are invited to join us once before becoming a Member. \n\n\n\nPlease be sure to secure your seat in advance for this meeting by emailing michelle.morgan@eaglechamber.co. We look forward to having you join us!\n\n\n\nLearn more about the Eagle Chamber's Ambassador program here.
X-ALT-DESC;FMTTYPE=text/html:<span style="font-size:14px\;"><span style="font-family:arial\;"><span style="color:#696969\;">Eagle Chamber of Colorado Ambassadors meet on the 2nd Wednesday of each month to discuss Chamber updates and strategize to support and strengthen Chamber services. This group of Ambassadors utilize the Eagle Chamber of Commerce&#39\;s platform to build relationships\, develop referrals and increase their exposure into the business community.&nbsp\;<br />\n<br />\nWhile it is required that Ambassadors are current Members of the Eagle Chamber\, non-Members are invited to join us once before becoming a Member.&nbsp\;<br />\n<br />\nPlease be sure to secure your seat in advance for this meeting by emailing michelle.morgan@eaglechamber.co. We look forward to having you join us!<br />\n<br />\n<span background-color:="" font-size:="" trebuchet="">Learn more about the Eagle Chamber&#39\;s Ambassador program&nbsp\;</span></span><a font-size:="" href="https://www.eaglechamber.co/programs/#ambassadors" style="color: rgb(7\, 130\, 193)\; font-family: sans-serif\, Arial\, Verdana\, " trebuchet=""><span style="color:#0000FF\;">here</span></a><span style="color:#696969\;"><span background-color:="" font-size:="" trebuchet="">.&nbsp\;</span></span></span></span>
LOCATION:From the Eby Creek/Chambers roundabout\, first westward roundabout onto Fairgrounds Rd. Pass Eagle Crossing Shopping Center and turn left into the Eagle Information Center's parking lot. You will see a red turn-of-the-century building\, which is the Eagle Information Center. You'll also see a black and yellow caboose and Eagle County Historical Society's large white barn on the property. The Chamber offices are located on the upper level of the Eagle Information Center. Please be sure to call when you arrive so that we can unlock the door for you.
UID:e.2268.2276
SEQUENCE:3
DTSTAMP:20260424T173147Z
URL:https://business.eaglechamber.co/events/details/eagle-chamber-ambassador-meeting-02-14-2024-2276
END:VEVENT

END:VCALENDAR
