BEGIN:VCALENDAR
VERSION:2.0
PRODID:-//ChamberMaster//Event Calendar 2.0//EN
METHOD:PUBLISH
X-PUBLISHED-TTL:P3D
REFRESH-INTERVAL:P3D
CALSCALE:GREGORIAN
BEGIN:VEVENT
DTSTART:20231214T003000Z
DTEND:20231214T013000Z
X-MICROSOFT-CDO-ALLDAYEVENT:FALSE
SUMMARY:Eagle Chamber Ambassador Meets
DESCRIPTION:This event is cancelled for December only due to the Chamber's After Hours Mixer being held at Second Street Tavern in Eagle.\n\n\n\nEagle Chamber of Colorado Ambassadors meet on the 2nd Wednesday of each month to discuss Chamber updates and strategize to support and strengthen Chamber services. This group of Ambassadors utilize the Eagle Chamber of Commerce's platform to build relationships\, develop referrals and increase their exposure into the business community. \n\n\n\nWhile it is required that Ambassadors are current Members of the Eagle Chamber\, non-Members can partake as a visitor once. \n\n\n\nLearn more about the Eagle Chamber's Ambassador program here. \n\n\n\nPlease be sure to secure your seat in advance for this meeting by emailing michelle.morgan@eaglechamber.co. We look forward to having you join us!
X-ALT-DESC;FMTTYPE=text/html:This event is cancelled for December only due to the Chamber&#39\;s After Hours Mixer being held at Second Street Tavern in Eagle.<br />\n<br />\nEagle Chamber of Colorado Ambassadors meet on the 2nd Wednesday of each month to discuss Chamber updates and strategize to support and strengthen Chamber services. This group of Ambassadors utilize the Eagle Chamber of Commerce&#39\;s platform to build relationships\, develop referrals and increase their exposure into the business community.&nbsp\;<br />\n<br />\nWhile it is required that Ambassadors are current Members of the Eagle Chamber\, non-Members can partake as a visitor once.&nbsp\;<br />\n<br />\nLearn more about the Eagle Chamber&#39\;s Ambassador program <a href="https://www.eaglechamber.co/programs/#ambassadors">here</a>.&nbsp\;<br />\n<br />\nPlease be sure to secure your seat in advance for this meeting by emailing michelle.morgan@eaglechamber.co. We look forward to having you join us!
LOCATION:From the Eby Creek/Chambers roundabout\, exit roundabout\, turning westward onto Fairgrounds Rd. Take the first left past the Eagle Crossing Shopping Center into the Eagle Information Center's parking lot. You will see a red turn-of-the-century building\, which is the Eagle Information Center. You'll also see a black and yellow caboose and Eagle County Historical Society's large white barn on the property as well. The Chamber offices are located on the upper level of the Eagle Information Center. Please be sure to call when you arrive so that we can unlock the door for you.
UID:e.2268.2274
SEQUENCE:3
DTSTAMP:20260421T050614Z
URL:https://business.eaglechamber.co/events/details/eagle-chamber-ambassador-meeting-12-13-2023-2274
END:VEVENT

END:VCALENDAR
