BEGIN:VCALENDAR
VERSION:2.0
PRODID:-//ChamberMaster//Event Calendar 2.0//EN
METHOD:PUBLISH
X-PUBLISHED-TTL:P3D
REFRESH-INTERVAL:P3D
CALSCALE:GREGORIAN
BEGIN:VEVENT
DTSTART:20240508T220000Z
DTEND:20240509T000000Z
X-MICROSOFT-CDO-ALLDAYEVENT:FALSE
SUMMARY:Eagle Chamber Ambassadors Meets
DESCRIPTION:About the Eagle Chamber Ambassador Program\n\n\n\nEagle Chamber Ambassadors typically meet on the 2nd Wednesday of the month at Eagle Chamber Committee Headquarters located upstairs at the Eagle Information Center in Eagle. Every other month\, the Ambassador Assists program is in place at a Member business location\, as opposed to the Committee Headquarters. Because plans can change from month to month\, please reach out to michelle.morgan@eaglechamber.co for updates. Interested in learning more about the Eagle Chamber Ambassador program? Click here. While it is required that Ambassadors are current Members of the Eagle Chamber\, non-Members can partake as a visitor once. Please be sure to secure you position in advance for Ambassador meetings and events by emailing your interest to michelle.morgan@eaglechamber.co. We are always excited to grow our Ambassador team!\n\n\n\nWhat is the Eagle Chamber's Ambassador Assists program?\n\n\n\nThe Eagle Chamber Ambassadors Ambassador Assists program is part of the Chamber's community impact initiatives designed to contribute helping hands for Eagle Chamber Member businesses. At the Eagle Chamber\, we believe in the collective strength of teamwork to drive task-oriented results to local businesses. \n\n\n\nHow can the Ambassador Assists program help your business?\n\n\n\nAmbassador Assists offers a unique opportunity for Member businesses seeking support with various tasks to benefit from the helping hands and enthusiasm of Eagle Chamber Ambassadors. Whether your business requires assistance with project management\, event planning\, administrative tasks or other projects\, our motivated Ambassadors are ready to roll up their sleeves and help you achieve your goals at your place of business.\n\n\n\nHow does the Ambassador Assists program work?\n\n\n\nEagle Chamber Ambassador Assists is available to offer helping hands to the best of our capabilities on the 2nd Wednesday of every other month for up to a 2-hour time frame in the Eagle and Gypsum region. Our team of Ambassadors will arrive at your business ready for your instruction and get to work to help you with your task(s) for a 2 hour time slot between the hours of 4 pm and 7 pm. \n\n\n\nDoes the Ambassador Assists service have any limitations?\n\n\n\nWhile our talented Ambassadors possess a wide range of talents\, limitations can apply. Please be prepared to describe your expectations to Michelle Morgan prior to scheduling your session to ensure your expectations are in alignment with our Ambassador qualifications.  \n\n\n\nHow do I request Ambassador Assists to serve my business?\n\n\n\nTo request an Eagle Chamber Ambassador Assists session\, email michelle.morgan@eaglechamber.co with a brief description of the task to be completed and we'll get back with you to discuss details. Be sure and act as soon as you can\, as session availability is limited and requests are considered on a first come first serve basis. \n\n\n\nWhat is the impact of the Ambassador Assists program?\n\n\n\nBy accepting our helping hands\, you not only gain access to a pool of talented individuals eager to contribute to your success\, but also become part of a larger mission to build stronger\, more vibrant economic communities. Together\, we can make a difference and create lasting impact beyond the confines of traditional business boundaries. \n\n\n\nThank you for considering the Ambassador Assists program\n\n\n\nThank you for considering Eagle Chamber's Ambassador Assists program as your partner in progress. We look forward to the opportunity to work with you and make a meaningful difference in our community.
X-ALT-DESC;FMTTYPE=text/html:<br />\n<span font-size:="" style="color: rgb(51\, 51\, 51)\; font-family: sans-serif\, Arial\, Verdana\, " trebuchet=""><span style="font-family: arial\;"><span style="color: rgb(105\, 105\, 105)\;"><span style="font-size: 16px\;"><strong>About the Eagle Chamber Ambassador Program</strong></span><br />\n<br />\n<span style="font-size: 16px\;">Eagle Chamber Ambassadors typically meet on the 2nd Wednesday of the month at Eagle Chamber Committee Headquarters located upstairs at the Eagle Information Center in Eagle. Every other month\, the&nbsp\;<em>Ambassador Assists</em>&nbsp\;program is in place at a Member business location\, as opposed to the Committee Headquarters. Because plans can change from month to month\, please reach out to michelle.morgan@eaglechamber.co for updates. Interested in learning more about the Eagle Chamber Ambassador program? Click&nbsp\;</span></span><span style="font-size: 16px\;"><a class="docs-creator" href="http://www.eaglechamber.co/programs/#ambassadors" style="color: rgb(7\, 130\, 193)\;"><span style="color: rgb(0\, 0\, 255)\;">here</span></a><span style="color: rgb(105\, 105\, 105)\;">. While it is required that Ambassadors are current Members of the Eagle Chamber\, non-Members can partake as a visitor once. Please be sure to secure you position in advance for Ambassador meetings and events by emailing your interest to michelle.morgan@eaglechamber.co. We are always excited to grow our Ambassador team!</span></span></span></span><br font-size:="" style="color: rgb(51\, 51\, 51)\; font-family: sans-serif\, Arial\, Verdana\, " trebuchet="" />\n<br font-size:="" style="color: rgb(51\, 51\, 51)\; font-family: sans-serif\, Arial\, Verdana\, " trebuchet="" />\n<span style="color:#696969\;"><span font-size:="" trebuchet=""><span style="font-family: arial\;"><span style="font-size:16px\;"><strong>What is the Eagle Chamber&#39\;s <em>Ambassador Assists</em> program?</strong></span><br />\n<br />\n<span style="font-size:16px\;">The Eagle Chamber Ambassadors <em>Ambassador Assists</em>&nbsp\;program is part of the Chamber&#39\;s community impact initiatives designed to contribute helping hands for Eagle Chamber Member businesses. At the Eagle Chamber\, we believe in the collective strength of teamwork to drive task-oriented results to local businesses.&nbsp\;</span><br />\n<br />\n<span style="font-size:16px\;"><strong>How can the <em>Ambassador Assists</em> program help your business?</strong></span><br />\n<br />\n<span style="font-size:16px\;"><em>Ambassador Assists</em>&nbsp\;offers a unique opportunity for Member businesses seeking support with various tasks to benefit from the helping hands and enthusiasm of Eagle Chamber Ambassadors. Whether your business requires assistance with project management\, event planning\, administrative tasks or other projects\, our motivated Ambassadors are ready to roll up their sleeves and help you achieve your goals at your place of business.</span><br />\n<br />\n<span style="font-size:16px\;"><strong>How does the Ambassador Assists program work?</strong></span></span></span><br />\n<br />\n<span style="font-family: arial\;"><span style="background-color: rgb(255\, 255\, 255)\;"><span style="font-size: 16px\;">Eagle Chamber <em>Ambassador Assists</em></span></span></span><span style="font-size:16px\;"><span style="font-family:arial\;"><span style="background-color: rgb(255\, 255\, 255)\;">&nbsp\;is available to offer helping hands to the best of our capabilities on the 2nd Wednesday of every other month for up to a 2-hour time frame in the Eagle and Gypsum region. Our team of Ambassadors will arrive at your business ready for your instruction and get to work to help you with your task(s) for a 2 hour time slot between the hours of 4 pm and 7 pm.&nbsp\;</span></span></span></span><br />\n<br />\n<span font-size:="" trebuchet=""><span style="font-family: arial\;"><span style="color:#696969\;"><span style="font-size:16px\;"><strong>Does the <em>Ambassador Assists</em> service have any limitations?</strong></span><br />\n<br />\n<span style="font-size:16px\;">While our talented Ambassadors possess a wide range of talents\, limitations can apply. Please be prepared to describe your expectations to Michelle Morgan prior to scheduling your session to ensure your expectations are in alignment with our Ambassador qualifications.&nbsp\;&nbsp\;</span><br />\n<br />\n<span style="font-size:16px\;"><strong>How do I request <em>Ambassador Assists</em>&nbsp\;to serve my business?</strong></span><br />\n<br />\n<span style="font-size:16px\;">To request an Eagle Chamber&nbsp\;<em>Ambassador Assists</em>&nbsp\;session\, email michelle.morgan@eaglechamber.co with a brief description of the task to be completed and we&#39\;ll get back with you to discuss details. Be sure and act as soon as you can\, as session availability is limited and requests are considered on a first come first serve basis.&nbsp\;</span><br />\n<br />\n<span style="font-size:16px\;"><strong>What is the impact of the Ambassador Assists program?</strong></span><br />\n<br />\n<span style="font-size:16px\;">By accepting our helping hands\, you not only gain access to a pool of talented individuals eager to contribute to your success\, but also become part of a larger mission to build stronger\, more vibrant economic communities. Together\, we can make a difference and create lasting impact beyond the confines of traditional business boundaries.&nbsp\;</span><br />\n<br />\n<span style="font-size:16px\;"><strong>Thank you for considering the Ambassador Assists program</strong></span><br />\n<br />\n<span style="font-size:16px\;">Thank you for considering Eagle Chamber&#39\;s&nbsp\;<em>Ambassador Assists</em>&nbsp\;program as your partner in progress. We look forward to the opportunity to work with you and make a meaningful difference in our community.&nbsp\;</span></span></span></span><br />\n<br />\n&nbsp\;
LOCATION:Please email michelle.morgan@eaglechamber.co to find out where this month's Ambassadors meet.
UID:e.2268.2279
SEQUENCE:3
DTSTAMP:20260424T143245Z
URL:https://business.eaglechamber.co/events/details/eagle-chamber-ambassadors-meets-2279
END:VEVENT

END:VCALENDAR
