BEGIN:VCALENDAR
VERSION:2.0
PRODID:-//ChamberMaster//Event Calendar 2.0//EN
METHOD:PUBLISH
X-PUBLISHED-TTL:P3D
REFRESH-INTERVAL:P3D
CALSCALE:GREGORIAN
BEGIN:VEVENT
DTSTART:20220406T233000Z
DTEND:20220407T010000Z
X-MICROSOFT-CDO-ALLDAYEVENT:FALSE
SUMMARY:Eagle Chamber Meet & Greet for Executive Director
DESCRIPTION:Stop by Grand Ave. Grill in Eagle for a Meet & Greet reception for Eagle Chamber's new Executive Director\, Michelle Morgan. Appetizers and 1 free drink ticket provided to Eagle Chamber Members. Thank you Hood Insurance Agency and Grand Ave. Grill for sponsoring this event!
X-ALT-DESC;FMTTYPE=text/html:Stop by Grand Ave. Grill in Eagle for a Meet &amp\; Greet reception for Eagle Chamber&#39\;s new Executive Director\, Michelle Morgan. Appetizers and 1 free drink ticket provided to Eagle Chamber Members. Thank you Hood Insurance Agency and Grand Ave. Grill for sponsoring this event!
LOCATION:678 Grand Ave. in Eagle
UID:e.2268.1168
SEQUENCE:3
DTSTAMP:20260426T035802Z
URL:https://business.eaglechamber.co/events/details/eagle-chamber-meet-greet-for-executive-director-1168
END:VEVENT

END:VCALENDAR
