BEGIN:VCALENDAR
VERSION:2.0
PRODID:-//ChamberMaster//Event Calendar 2.0//EN
METHOD:PUBLISH
X-PUBLISHED-TTL:P3D
REFRESH-INTERVAL:P3D
CALSCALE:GREGORIAN
BEGIN:VEVENT
DTSTART:20240711T230000Z
DTEND:20240712T010000Z
X-MICROSOFT-CDO-ALLDAYEVENT:FALSE
SUMMARY:Eagle Chamber's July Mixer Featuring the Grand Opening of Plumbing Systems\, Inc.!
DESCRIPTION:Wowza! What an incredible party! People sure did come out of the wood-work to help celebrate the grand opening and ribbon-cutting of Plumbing Systems\, Inc. (PSI) for July's Eagle Chamber After Hours Mixer! Guests experienced PSI's new state of the art facility in Gypsum\, enjoy freshly grilled food\, prepared by the smiley\, fun-loving PSI staff. In an outdoor setting\, this event had the feel of a local friend-family reunion\, with live music by @whatmichelledoes\, beer from Eagle River Brewing\, and GREAT giveaways! This fun big crowd came out and showed their support of PSI's big down-valley move and their investment in our community. Jim Harper\, owner of PSI\, Inc.\, gave a memorable speech marking this great moment within this high vibe celebration!
X-ALT-DESC;FMTTYPE=text/html:<br />\n<br />\n<span style="font-size:16px\;"><span style="font-family:arial\;"><span style="color:#696969\;">Wowza! What an incredible party! People sure did come out of the wood-work to help celebrate the grand opening and ribbon-cutting of </span><a class="docs-creator" href="https://psivail.com/?utm_source=GMB&amp\;utm_medium=organic"><span style="color:#0000FF\;">Plumbing Systems\, Inc. (PSI)</span></a><span style="color:#696969\;"> for July&#39\;s Eagle Chamber After Hours Mixer! Guests experienced PSI&#39\;s new state of the art facility in Gypsum\, enjoy freshly grilled food\, prepared by the smiley\, fun-loving PSI staff. In an outdoor setting\, this event had the feel of a local friend-family reunion\, with live music by @whatmichelledoes\, beer from </span><a class="docs-creator" href="https://eagleriverbrewing.com/"><span style="color:#0000FF\;">Eagle River Brewing</span></a><span style="color:#696969\;">\, and GREAT giveaways! This fun big crowd came out and showed their support of PSI&#39\;s big down-valley move and their investment in our community. Jim Harper\, owner of PSI\, Inc.\, gave a memorable speech marking this great moment within this high vibe celebration!</span></span></span>
LOCATION:
UID:e.2268.2655
SEQUENCE:3
DTSTAMP:20260424T052736Z
URL:https://business.eaglechamber.co/events/details/eagle-chamber-s-july-mixer-featuring-the-grand-opening-of-plumbing-systems-inc-2655
END:VEVENT

END:VCALENDAR
