BEGIN:VCALENDAR
VERSION:2.0
PRODID:-//ChamberMaster//Event Calendar 2.0//EN
METHOD:PUBLISH
X-PUBLISHED-TTL:P3D
REFRESH-INTERVAL:P3D
CALSCALE:GREGORIAN
BEGIN:VEVENT
DTSTART:20240711T190000Z
DTEND:20240711T200000Z
X-MICROSOFT-CDO-ALLDAYEVENT:FALSE
SUMMARY:Eagle Chamber's Membership in Motion Virtual Event
DESCRIPTION:Did you miss this event? Please click here to view the recording.\n\n\n\nThe Eagle Chamber's Membership in Motion event series takes place on the 2nd Thursday of each month. The purpose of Eagle Chamber's Membership in Motion Series is to equip new and existing Members with informative education that provides a comprehensive understanding of benefits available through their Membership packages. The Membership in Motion Series shows Members how to leverage the full range of services and resources provided by their Membership. A portion of the session is tailored towards specific needs and interests of participating Members in keeping with Eagle Chamber's continuing efforts to enhance Member benefits and offerings. \n\n\n\nMembership in Motion Series may cover topics such as:\n\n	Promotional Benefits\n	\n		Digital Marketing\n		Event Host/Co-Host Opportunities\n		Neighbor to Neighbor Program\n	\n	\n	Networking Benefits\n	\n		Leads Group\n		Mixers\n		Ambassador Program\n	\n	\n	Advocacy Benefits\n	\n		Business Advocacy Committee\n		Speaker Series Resource Events\n		Town of Eagle Economic Vitality Committee\n	\n	\n	Events\n	\n		Screaming Eagle Charity Golf Tournament\n		Biztoberfest\n		Annual Member Awards\n	\n	\n	Sponsorship Opportunities\n	\n		Eagle Economic Vitality Foundation\n		All Eagle Chamber programs and events\n	\n	\n\n\n\nWe at the Eagle Chamber look forward to engaging with you during the Membership in Motion Series. It is our goal to empower you through your Eagle Chamber Membership!
X-ALT-DESC;FMTTYPE=text/html:<br />\n<br />\n<br />\n<span style="color:#696969\;"><span style="font-family:arial\;"><span style="background:white\;">Did you miss this event? Please click </span></span></span><span style="font-family:arial\;"><span style="background:white\;"><a href="https://us02web.zoom.us/rec/share/oOgqB8p7fqkTcEvf1KXAteab5EfU8HWHJlDcRPDRZynwhpFNPY-ZYQQr3AdDK5a8.MNGVwSa8rxy9RIVi"><span style="color:#0000FF\;">here</span></a></span></span><span style="color:#696969\;"><span style="font-family:arial\;"><span style="background:white\;"> to view the recording.<br />\n<br />\nThe Eagle Chamber&#39\;s Membership in Motion event series takes place on the 2nd Thursday of each month. The purpose of Eagle Chamber&#39\;s Membership in Motion Series is to equip new and existing Members with informative education that provides a comprehensive understanding of benefits available through their Membership packages. The Membership in Motion Series shows Members how to leverage the full range of services and resources provided by their Membership. A portion of the session is tailored towards specific needs and interests of participating Members in keeping with Eagle Chamber&#39\;s continuing efforts to enhance Member benefits and offerings.&nbsp\;<br />\n<br />\nMembership in Motion Series may cover topics such as:</span></span></span>\n<ul>\n	<li><span style="color:#696969\;"><span style="font-family:arial\;"><span style="background:white\;">Promotional Benefits</span></span></span>\n	<ul>\n		<li><span style="color:#696969\;"><span style="font-family:arial\;">Digital Marketing</span></span></li>\n		<li><span style="color:#696969\;"><span style="font-family:arial\;">Event Host/Co-Host Opportunities</span></span></li>\n		<li><span style="color:#696969\;"><span style="font-family:arial\;">Neighbor to Neighbor Program</span></span></li>\n	</ul>\n	</li>\n	<li><span style="color:#696969\;"><span style="font-family:arial\;">Networking Benefits</span></span>\n	<ul>\n		<li><span style="color:#696969\;"><span style="font-family:arial\;">Leads Group</span></span></li>\n		<li><span style="color:#696969\;"><span style="font-family:arial\;">Mixers</span></span></li>\n		<li><span style="color:#696969\;"><span style="font-family:arial\;">Ambassador Program</span></span></li>\n	</ul>\n	</li>\n	<li><span style="color:#696969\;"><span style="font-family:arial\;">Advocacy Benefits</span></span>\n	<ul>\n		<li><span style="color:#696969\;"><span style="font-family:arial\;">Business Advocacy Committee</span></span></li>\n		<li><span style="color:#696969\;"><span style="font-family:arial\;">Speaker Series Resource Events</span></span></li>\n		<li><span style="color:#696969\;"><span style="font-family:arial\;">Town of Eagle Economic Vitality Committee</span></span></li>\n	</ul>\n	</li>\n	<li><span style="color:#696969\;"><span style="font-family:arial\;">Events</span></span>\n	<ul>\n		<li><span style="color:#696969\;"><span style="font-family:arial\;">Screaming Eagle Charity Golf Tournament</span></span></li>\n		<li><span style="color:#696969\;"><span style="font-family:arial\;">Biztoberfest</span></span></li>\n		<li><span style="color:#696969\;"><span style="font-family:arial\;">Annual Member Awards</span></span></li>\n	</ul>\n	</li>\n	<li><span style="color:#696969\;"><span style="font-family:arial\;">Sponsorship Opportunities</span></span>\n	<ul>\n		<li><span style="color:#696969\;"><span style="font-family:arial\;">Eagle Economic Vitality Foundation</span></span></li>\n		<li><span style="color:#696969\;"><span style="font-family:arial\;">All Eagle Chamber programs and events</span></span></li>\n	</ul>\n	</li>\n</ul>\n<br />\n<span style="color:#696969\;"><span style="font-family:arial\;">We at the Eagle Chamber look forward to engaging with you during the Membership in Motion Series. It is our goal to empower you through your Eagle Chamber Membership!</span></span><br />\n&nbsp\;
LOCATION:Virtual - Register today and receive a digital invitation to join us!
UID:e.2268.2508
SEQUENCE:3
DTSTAMP:20260424T052453Z
URL:https://business.eaglechamber.co/events/details/eagle-chamber-s-membership-in-motion-virtual-event-07-11-2024-2508
END:VEVENT

END:VCALENDAR
