BEGIN:VCALENDAR
VERSION:2.0
PRODID:-//ChamberMaster//Event Calendar 2.0//EN
METHOD:PUBLISH
X-PUBLISHED-TTL:P3D
REFRESH-INTERVAL:P3D
CALSCALE:GREGORIAN
BEGIN:VEVENT
DTSTART:20240516T230000Z
DTEND:20240517T010000Z
X-MICROSOFT-CDO-ALLDAYEVENT:FALSE
SUMMARY:Eagle Chamber's Third Thursday Mixer Featuring Gallegos Sizzling Stoneyard Picnic
DESCRIPTION:Attendees doubled their chances of winning the Grand Prize of the outdoor fireplace\, provided by High Country Hearth and Home and Gallegos (a $1\,200 value!) by RSVPing and Mike Nelson of US Bank was the winner!\n\nGet inspired with a sneak peak of Gallego's Annual Stone Yard Sale and realize your dream outdoor living space!\n\n\n\nGuests of May's Eagle Chamber After Hours Mixer celebrated our outdoor local lifestyle at Gallego's Stone Yard in Gypsum for a Sizzling Stoneyard Picnic! Co-hosted by High Country Hearth and Home and Boone's Wine & Spirits. Fresh food straight from the grill\, beer and wine from Boone's Wine & Spirits\, music in the air\, networking and AMAZING giveaways! Guests entered to win a number of great raffle prizes\, including a 5' Outdoor Fire Pit insert from High Country Hearth and Home\, and stone surround from Gallegos\, valued at up to $1\,200! (Delivery and installation not included).\n\n\n\nThis Mixer was held the evening before Gallegos's famous annual Stone Yard sale\, so guests were able to let their eyes wander about the Stone Yard and developed ideas for their outdoor living creation this summer! BONUS: Mixer guests will receive a free stone bench\, or select pallet\, with a $150 purchase during the big sale event slated for May 24th and 25th. \n\n\n\nEagle Chamber Members and guests celebrated the arrival of our warming season with this great party and great weather!
X-ALT-DESC;FMTTYPE=text/html:<br />\n<br />\n<span style="font-size:14px\;"><span style="font-family:arial\;"><span style="color:#696969\;">Attendees doubled their chances of winning the Grand Prize of the outdoor fireplace\, provided by High Country Hearth and Home and Gallegos (a $1\,200 value!) by RSVPing and Mike Nelson of US Bank was the winner!<br />\nGet inspired with a sneak peak of Gallego&#39\;s Annual Stone Yard Sale and realize your dream outdoor living space!<br />\n<br />\nGuests of May&#39\;s Eagle Chamber After Hours Mixer celebrated our outdoor local lifestyle at </span><a class="docs-creator" href="https://www.gallegoscorp.com/"><span style="color:#0000FF\;">Gallego&#39\;s</span></a><span style="color:#696969\;"> Stone Yard in Gypsum for a Sizzling Stoneyard Picnic! Co-hosted by High Country Hearth and Home and </span><a class="docs-creator" href="https://booneswineandspirits.com/"><span style="color:#0000FF\;">Boone&#39\;s Wine &amp\; Spirits</span></a>. F<span style="color:#696969\;">resh food straight from the grill\, beer and wine from Boone&#39\;s Wine &amp\; Spirits\, music in the air\, networking and AMAZING giveaways! Guests entered to win a number of great raffle prizes\, including a 5&#39\; Outdoor Fire Pit insert from High Country Hearth and Home\, and stone surround from Gallegos\, valued at up to $1\,200! (Delivery and installation not included).<br />\n<br />\nThis Mixer was held the evening before Gallegos&#39\;s famous annual Stone Yard sale\, so guests were able to let their eyes wander about the Stone Yard and developed ideas for their outdoor living creation this summer! BONUS: Mixer guests will receive a free stone bench\, or select pallet\, with a $150 purchase during the big sale event slated for May 24th and 25th.&nbsp\;<br />\n<br />\nEagle Chamber Members and guests celebrated the arrival of our warming season with this great party and great weather!</span></span></span>
LOCATION:
UID:e.2268.2644
SEQUENCE:3
DTSTAMP:20260424T125613Z
URL:https://business.eaglechamber.co/events/details/eagle-chamber-s-third-thursday-mixer-featuring-gallegos-sizzling-stoneyard-picnic-2644
END:VEVENT

END:VCALENDAR
