BEGIN:VCALENDAR
VERSION:2.0
PRODID:-//ChamberMaster//Event Calendar 2.0//EN
METHOD:PUBLISH
X-PUBLISHED-TTL:P3D
REFRESH-INTERVAL:P3D
CALSCALE:GREGORIAN
BEGIN:VEVENT
DTSTART:20240321T230000Z
DTEND:20240322T010000Z
X-MICROSOFT-CDO-ALLDAYEVENT:FALSE
SUMMARY:Eagle Chamber's Third Thursday Mixer Featuring Knapp Harvest
DESCRIPTION:The promise of the sweet taste of honey and our popular artisan grocery boutique brought a buzzing crowd to Knapp Harvest for Eagle Chamber's March After Hours Mixer. Featured as the Best of Vail Valley's both 2022-2023 and 2023-2024 Winner of the Best Locally Made Products and the Best of Unique Gift Shop\, Knapp Harvest offers a variety of freshly sourced local and seasonal foods\, including produce\, meats\, dairy\, prepared foods\, baked goods and more.  Located in Eagle Ranch Village\, in the Town of Eagle\, Knapp Harvest is known to be a superb quality artisan market. \n\n\n\nFresh appetizers\, bubbly beverages and honey-tastings were available for guests\, who also enjoyed live\, easy music by Kent Kingrey. The atmosphere bolstered good vibes\, carrying lively conversations amongst guests and staff. Knapp Harvest's generous and exclusive Mixer sale kept sales transactions ringing up all evening with excitable smiles around purchases. Three lucky guests won custom Knapp Harvest gift basket giveaways and lingering guests stayed until well after the larger crowd dissipated.  \n\n\n\nThe Eagle Chamber expresses gratitude for inviting Chamber Members and guests for an evening of good taste and friendly\, down-to-earth hospitality given to all. \n\n\n\nWarm\, Eagle Chamber reception was facilitated by Eagle Chamber Ambassadors\, including the Chamber's 2023 Member of the Year\, Rhonda Tatham of First Bank and Jennifer Hefferan of MND America. Other Ambassadors assisted including Josie Haxton of Portofino Jewelry and Shelley Brown of Eagle Valley Autobody.  \n\n\n\nIf you haven't visited Knapp Harvest in Eagle Ranch yet\, you're in for a real treat. A champion of a local culture\, Knapp Harvest ownership strives to carry local\, sustainability-made products from small businesses and farms in our community and keeps their service to the community close to their hearts. Click here to view a quick live view of the event from Facebook.
X-ALT-DESC;FMTTYPE=text/html:<br />\n<br />\n<span style="font-size:14px\;"><span style="font-family:arial\;"><span style="color:#696969\;">The promise of the sweet taste of honey and our popular artisan grocery boutique brought a buzzing crowd to </span><a class="docs-creator" href="https://www.knappranch.com/brands/knapp-harvest/?fbclid=IwAR3CHI_78gzJgBP5Xxb3_B0ix4qHsBCEeRbfOtkdikPHrHgtSUC0Ag6SaxI"><span style="color:#0000FF\;">Knapp Harvest</span></a><span style="color:#696969\;"> for Eagle Chamber&#39\;s March After Hours Mixer. Featured as the Best of Vail Valley&#39\;s both 2022-2023 and 2023-2024 Winner of the Best Locally Made Products and the Best of Unique Gift Shop\, Knapp Harvest offers&nbsp\;a variety of freshly sourced local and seasonal foods\, including produce\, meats\, dairy\, prepared foods\, baked goods and more.&nbsp\; Located in Eagle Ranch Village\, in the Town of Eagle\, Knapp Harvest is known to be a superb quality artisan market.&nbsp\;<br />\n<br />\nFresh appetizers\, bubbly beverages and honey-tastings were available for guests\, who also enjoyed live\, easy music by Kent Kingrey. The atmosphere bolstered good vibes\, carrying lively conversations amongst guests and staff. Knapp Harvest&#39\;s generous and exclusive Mixer sale kept sales transactions ringing up all evening with excitable smiles around purchases. Three lucky guests won custom Knapp Harvest gift basket giveaways and lingering guests stayed until well after the larger crowd dissipated.&nbsp\;&nbsp\;</span><br />\n<br />\n<span style="background-color: rgb(255\, 255\, 255)\;"><span style="color:#696969\;">The Eagle Chamber expresses gratitude for inviting Chamber Members and guests for an evening of good taste and friendly\, down-to-earth hospitality given to all.&nbsp\;<br />\n<br />\nWarm\, Eagle Chamber reception was facilitated by Eagle Chamber Ambassadors\, including the Chamber&#39\;s 2023 Member of the Year\, Rhonda Tatham of </span><a class="docs-creator" href="https://www.efirstbank.com/"><span style="color:#0000FF\;">First Bank</span></a><span style="color:#696969\;"> and Jennifer Hefferan of </span><a class="docs-creator" href="https://mndamerica.com/"><span style="color:#0000FF\;">MND America</span></a><span style="color:#696969\;">. Other Ambassadors assisted including Josie Haxton of </span><a class="docs-creator" href="https://portofinojewelry.com/"><span style="color:#0000FF\;">Portofino Jewelry</span></a><span style="color:#696969\;"> and Shelley Brown of </span><a class="docs-creator" href="https://eaglevalleyautobody.com/"><span style="color:#0000FF\;">Eagle Valley Autobody</span></a><span style="color:#696969\;">.&nbsp\;&nbsp\;<br />\n<br />\nIf you haven&#39\;t visited Knapp Harvest in Eagle Ranch yet\, you&#39\;re in for a real treat.&nbsp\;A champion of a local culture\, Knapp Harvest ownership strives to carry local\, sustainability-made products from small businesses and farms in our community and keeps their service to the community close to their hearts. Click </span><a class="docs-creator" href="https://www.facebook.com/eaglechamberofcommerce/videos/937944837777545"><span style="color:#0000FF\;">here</span></a><span style="color:#696969\;"> to view a quick live view of the event from Facebook.&nbsp\;</span></span></span></span>
LOCATION:
UID:e.2268.2640
SEQUENCE:3
DTSTAMP:20260424T155550Z
URL:https://business.eaglechamber.co/events/details/eagle-chamber-s-third-thursday-mixer-featuring-knapp-harvest-2640
END:VEVENT

END:VCALENDAR
