BEGIN:VCALENDAR
VERSION:2.0
PRODID:-//ChamberMaster//Event Calendar 2.0//EN
METHOD:PUBLISH
X-PUBLISHED-TTL:P3D
REFRESH-INTERVAL:P3D
CALSCALE:GREGORIAN
BEGIN:VEVENT
DTSTART:20230217T000000Z
DTEND:20230217T020000Z
X-MICROSOFT-CDO-ALLDAYEVENT:FALSE
SUMMARY:Eagle Chamber's Third Thursday Mixer featuring Paul Davis Restoration\, Vail Honeywagon & KZYR for Casino Night!
DESCRIPTION:Casino Night at the February After Hours Eagle Chamber Mixer!\n\n\n\n\n\nEagle Chamber Members and guests rolled the networking dice for Casino Night at Paul Davis Restoration! Live music with Matt Garth\, local business giveaways\, casino party prizes\, beautiful and tasteful spread of food by North Coast Originals presented by Vail Honeywagon and a variety of refreshing beverages served by KZYR The Zephyr - True Local Radio were on the agenda at this February Third Thursday Eagle Chamber Mixer. So many connections were made within the Membership and beyond with a turn out of over 100 people! \n\n\n\nGREAT giveaways included a gift basket from Knapp Harvest\, a bottle of MacCallan 12\, Zen Blossom massage gift certificate\, 10th Mountain Whiskey delights\, Color Coffee goods and gift certificates\, 4 tickets to a Yeti's game and more!  \n\n\n\nThe Eagle Chamber would like to thank Paul Davis Restoration for their support of the business community and for going above and beyond to ensure effective networking connections and a dang good time during their Grand Opening celebration on Chambers Ave. in Eagle. \n\n\n\nCome back and check later for many more photos to come!
X-ALT-DESC;FMTTYPE=text/html:<br />\n<br />\n<span style="font-size:14px\;"><strong>Casino Night at the February After Hours Eagle Chamber Mixer!</strong></span><br />\n<br />\n<br />\nEagle Chamber Members and guests rolled the networking dice for Casino Night at <a href="https://mountain-resort.pauldavis.com/">Paul Davis Restoration</a>! Live music with Matt Garth\, local business giveaways\, casino party prizes\, beautiful and tasteful spread of food by <a href="https://www.northcoastoriginals.com/">North Coast Originals</a> presented by <a href="https://www.vailhoneywagon.com/">Vail Honeywagon</a> and a variety of refreshing beverages served by <a href="https://www.kzyr.com/">KZYR The Zephyr - True Local Radio</a> were on the agenda at this February Third Thursday Eagle Chamber Mixer. So many connections were made within the Membership and beyond with a turn out of over 100 people!&nbsp\;<br />\n<br />\nGREAT giveaways included a gift basket from <a href="https://www.knappranch.com/brands/knapp-harvest/">Knapp Harvest</a>\, a bottle of MacCallan 12\, <a href="https://zenblossomllc.com/">Zen Blossom</a> massage gift certificate\, 10th Mountain Whiskey delights\, Color Coffee goods and gift certificates\, 4 tickets to a Yeti&#39\;s game and more!&nbsp\;&nbsp\;<br />\n<br />\nThe Eagle Chamber would like to thank Paul Davis Restoration for their support of the business community and for going above and beyond to ensure effective networking connections and a dang good time during their Grand Opening celebration on Chambers Ave. in Eagle.&nbsp\;<br />\n<br />\nCome back and check later for many more photos to come!<br />\n<br />\n&nbsp\;
LOCATION:Park in front of the building. Overflow parking in lot across the street.
UID:e.2268.1491
SEQUENCE:3
DTSTAMP:20260425T110338Z
URL:https://business.eaglechamber.co/events/details/eagle-chamber-s-third-thursday-mixer-featuring-paul-davis-restoration-vail-honeywagon-kzyr-for-casino-night-1491
END:VEVENT

END:VCALENDAR
