BEGIN:VCALENDAR
VERSION:2.0
PRODID:-//ChamberMaster//Event Calendar 2.0//EN
METHOD:PUBLISH
X-PUBLISHED-TTL:P3D
REFRESH-INTERVAL:P3D
CALSCALE:GREGORIAN
BEGIN:VEVENT
DTSTART:20240418T230000Z
DTEND:20240419T010000Z
X-MICROSOFT-CDO-ALLDAYEVENT:FALSE
SUMMARY:Eagle Chamber's Third Thursday Mixer Featuring Town of Eagle\, Adam Palmer Sustainability Fund and Vail Honeywagon
DESCRIPTION:Mixer attendees discovered the abundant opportunities the Town of Eagle has to offer at the Eagle Chamber's April After Hours Mixer. The event was an excellent opportunity to engage with local leaders\, connect with fellow residents and Chamber Members\, and gain valuable insights into the initiatives shaping the Town of Eagle's future. \n\n\n\nAs part of Climate Action Week\, the event was Co-hosted in partnership with The Adam Palmer Sustainability Fund and Vail Honeywagon\, who collaborates with the Town of Eagle through sustainability efforts. Palmer Fund envisions a net-zero Town of Eagle\, through communication\, innovation and action as they operate in the legacy of Adam Palmer\, inspired by Adam's way of life that prioritized sustainability\, family and community. Vail Honeywagon has been providing superior waste and recycling services in the Vail Valley for 40 years and are committed to accountable\, responsive and personalized service. Vail Honeywagon's commitment to the local community and the environment is demonstrated in their sustainable waste diversion strategies and their contribution to local causes.\n\n\n\nAttendees learned more about commercial composting and recycling while 3 lucky winners won composting starter kits from the Palmer Fund\, complete with 3 months of free hauling service from Vail Honeywagon. This is a good start to help businesses put commercial composting into action. \n\n\n\nEagle River Brewing and Boone's Wine & Spirits provided complimentary beer and wine\, while Frankie's Spicy Water provided sparkling non-alcoholic beverage options and. Compliments of the Town of Eagle\, Flavor Stop Food Truck  provided empanadas for Mixer guests. Flavor Stop's full menu items were also available for purchase. \n\n\n\nBright and cheery Eagle Chamber reception was facilitated by Eagle Chamber Ambassadors\, including the Chamber's 2023 Member of the Year\, Rhonda Tatham of First Bank\, Pat Prill and Jackie VanEyll of the Town of Eagle and Jennifer Hefferan of MND America.
X-ALT-DESC;FMTTYPE=text/html:<br />\n<br />\n<span style="font-size:16px\;"><span style="color:#696969\;">Mixer attendees discovered the abundant opportunities the </span><a class="docs-creator" href="https://www.townofeagle.org/"><span style="color:#0000FF\;">Town of Eagle</span></a><span style="color:#696969\;"> has to offer at the Eagle Chamber&#39\;s April After Hours Mixer. The event was an excellent opportunity to engage with local leaders\, connect with fellow residents and Chamber Members\, and gain valuable insights into the initiatives shaping the Town of Eagle&#39\;s future.&nbsp\;<br />\n<br />\nAs part of Climate Action Week\, the event was Co-hosted in partnership with&nbsp\;</span><a class="docs-creator" href="https://www.apsfund.org/"><span style="color:#0000FF\;">The Adam Palmer Sustainability Fund</span></a><span style="color:#696969\;">&nbsp\;and </span><a class="docs-creator" href="https://www.vailhoneywagon.com/"><span style="color:#0000FF\;">Vail Honeywagon</span></a><span style="color:#696969\;">\,&nbsp\;who collaborates with the Town of Eagle through sustainability efforts. Palmer Fund envisions a net-zero Town of Eagle\, through communication\, innovation and action as they operate in the legacy of Adam Palmer\, inspired by Adam&#39\;s way of life that prioritized sustainability\, family and community. Vail Honeywagon has been providing superior waste and recycling services in the Vail Valley for 40 years and are committed to accountable\, responsive and personalized service. Vail Honeywagon&#39\;s commitment to the local community and the environment is demonstrated in their sustainable waste diversion strategies and their contribution to local causes.<br />\n<br />\nAttendees learned&nbsp\;more about commercial composting and recycling while 3 lucky winners won composting starter kits from the Palmer Fund\, complete with 3 months of free hauling service from Vail Honeywagon. This is a good start to help businesses put commercial composting into action.&nbsp\;</span><br />\n<br />\n<a class="docs-creator" href="https://eagleriverbrewing.com/"><span style="color:#0000FF\;">Eagle River Brewing</span></a><span style="color:#696969\;"> and </span><a class="docs-creator" href="https://booneswineandspirits.com/"><span style="color:#0000FF\;">Boone&#39\;s Wine &amp\; Spirits</span></a><span style="color:#696969\;">&nbsp\;provided complimentary beer and wine\, while Frankie&#39\;s Spicy Water provided sparkling non-alcoholic beverage options and. Compliments of the Town of Eagle\, Flavor Stop Food Truck&nbsp\; provided empanadas for Mixer guests. Flavor Stop&#39\;s full menu items were also available for purchase.&nbsp\;</span><br />\n<br />\n<span style="color:#696969\;">Bright and cheery Eagle Chamber reception was facilitated by Eagle Chamber Ambassadors\, including the Chamber&#39\;s 2023 Member of the Year\, Rhonda Tatham of </span><a href="https://www.efirstbank.com/internet-banking/log-in-sign-up.htm"><span style="color:#0000FF\;">First Bank</span></a><span style="color:#696969\;">\, Pat Prill and Jackie VanEyll of the </span><a href="https://www.townofeagle.org/"><span style="color:#0000FF\;">Town of Eagle</span></a><span style="color:#696969\;"> and Jennifer Hefferan of </span><a href="https://mndamerica.com/"><span style="color:#0000FF\;">MND America</span></a><span style="color:#696969\;">.</span></span><br />\n<br />\n<br />\n&nbsp\;
LOCATION:
UID:e.2268.2643
SEQUENCE:3
DTSTAMP:20260424T143540Z
URL:https://business.eaglechamber.co/events/details/eagle-chamber-s-third-thursday-mixer-featuring-town-of-eagle-adam-palmer-sustainability-fund-and-vail-honeywagon-2643
END:VEVENT

END:VCALENDAR
