BEGIN:VCALENDAR
VERSION:2.0
PRODID:-//ChamberMaster//Event Calendar 2.0//EN
METHOD:PUBLISH
X-PUBLISHED-TTL:P3D
REFRESH-INTERVAL:P3D
CALSCALE:GREGORIAN
BEGIN:VEVENT
DTSTART:20221216T000000Z
DTEND:20221216T020000Z
X-MICROSOFT-CDO-ALLDAYEVENT:FALSE
SUMMARY:Eagle Chamber's Third Thursday Mixer Featuring Town of Eagle\, Yeti's Grind & Downtown Business Alliance PLUS Membership Awards Ceremony!
DESCRIPTION:The largest Eagle Chamber's Third Thursday Mixer of the year featured Eagle Chamber Membership 2022 Awards\, a Toast with Town of Eagle\, Yeti's Grind Evening Ambiance and Cheers with the Downtown Business Alliance. This event was open to Eagle Chamber Members and guests for this special occasion to enjoy a celebrative atmosphere in the evening hours on Broadway in Eagle.  Hors D'Oeuvres and Libations were served and Yeti's Grind's coffee bar was be open to attendees for purchases. \n\n\n\nThe 2022 Eagle Chamber Award Nominees and winners have been announced!\n\n\n\nMember of the Year Winner - Patty Jackson Hood of Hood Insurance Agency\n\n\n\nNominees - \n\nWill Comerford\, Comerford Insurance Agency\n\nWendy Sapuntzoff\, Comerford Insurance Agency\n\nRick Beveridge\, Beveridge Real Estate & Eagle Chamber Vice President\n\nJosie Haxton\, Always Mountain Time Media\n\nPatty Hood\, Hood Insurance Agency & Eagle Chamber Treasurer\n\nYvonne DeGorter\, Yoga Off Broadway\n\nDan MillerBrown\, Partners Environmental Consulting & Eagle Chamber President\n\nJessie Steinmetz\, Edward Jones & Eagle Chamber Board of Director\n\n\n\nBusiness of the Year Winner - Comerford Insurance Agency\n\n\n\nNominees - \n\nHood Insurance Agency\n\nComerford Insurance Agency\n\nBatson's Corner\n\nGallegos Corporation\n\nNorth Coast Originals\n\nEagle Arts\n\nCircle-A Auto Repair\n\nColorado On-Site Veterinary Services\n\n\n\nNon-Profit Business of the Year Winner - Cowboys Forever Foundation\n\n\n\nNominees - \n\nThe Cycle Effect\n\nCowboys Forever Foundation\n\nDowntown Business Alliance\n\nRestore Habitat for Humanity Vail Valley\n\nVail Valley Mountain Trails Alliance\n\nEagle Arts - ARTwalk\n\n\n\nAmbassador of the Year Winner - Jessie Steinmetz
X-ALT-DESC;FMTTYPE=text/html:The largest Eagle Chamber&#39\;s Third Thursday Mixer of the year featured Eagle Chamber Membership 2022 Awards\, a Toast with Town of Eagle\, Yeti&#39\;s Grind Evening Ambiance and Cheers with the Downtown Business Alliance. This event was open to Eagle Chamber Members and guests for this special occasion to enjoy a celebrative atmosphere in the evening hours on Broadway in Eagle.&nbsp\; Hors D&#39\;Oeuvres and Libations were served and Yeti&#39\;s Grind&#39\;s coffee bar was be open to attendees for purchases.&nbsp\;<br />\n<br />\nThe 2022 Eagle Chamber Award Nominees and winners have been announced!<br />\n<br />\n<strong>Member of the Year Winner - Patty Jackson Hood of Hood Insurance Agency</strong><br />\n<br />\n<em>Nominees -&nbsp\;<br />\nWill Comerford\, Comerford Insurance Agency<br />\nWendy Sapuntzoff\, Comerford Insurance Agency<br />\nRick Beveridge\, Beveridge Real Estate &amp\; Eagle Chamber Vice President<br />\nJosie Haxton\, Always Mountain Time Media<br />\nPatty Hood\, Hood Insurance Agency &amp\; Eagle Chamber Treasurer<br />\nYvonne DeGorter\, Yoga Off Broadway<br />\nDan MillerBrown\, Partners Environmental Consulting &amp\; Eagle Chamber President<br />\nJessie Steinmetz\, Edward Jones &amp\; Eagle Chamber Board of Director</em><br />\n<br />\n<strong>Business of the Year Winner - Comerford Insurance Agency</strong><br />\n<br />\n<em>Nominees -&nbsp\;<br />\nHood Insurance Agency<br />\nComerford Insurance Agency<br />\nBatson&#39\;s Corner<br />\nGallegos Corporation<br />\nNorth Coast Originals<br />\nEagle Arts<br />\nCircle-A Auto Repair<br />\nColorado On-Site Veterinary Services</em><br />\n<br />\n<strong>Non-Profit Business of the Year Winner - Cowboys Forever Foundation</strong><br />\n<br />\n<em>Nominees -&nbsp\;<br />\nThe Cycle Effect<br />\nCowboys Forever Foundation<br />\nDowntown Business Alliance<br />\nRestore Habitat for Humanity Vail Valley<br />\nVail Valley Mountain Trails Alliance<br />\nEagle Arts - ARTwalk</em><br />\n<br />\n<strong>Ambassador of the Year Winner - Jessie Steinmetz</strong><br />\n<br />\n<br />\n<br />\n&nbsp\;
LOCATION:In the heart of downtown Eagle at Yeti's Grind
UID:e.2268.1478
SEQUENCE:3
DTSTAMP:20260425T141008Z
URL:https://business.eaglechamber.co/events/details/eagle-chamber-s-third-thursday-mixer-featuring-town-of-eagle-yeti-s-grind-downtown-business-alliance-plus-membership-awards-ceremony-1478
END:VEVENT

END:VCALENDAR
