BEGIN:VCALENDAR
VERSION:2.0
PRODID:-//ChamberMaster//Event Calendar 2.0//EN
METHOD:PUBLISH
X-PUBLISHED-TTL:P3D
REFRESH-INTERVAL:P3D
CALSCALE:GREGORIAN
BEGIN:VEVENT
DTSTART;VALUE=DATE:20221207
DTEND;VALUE=DATE:20221210
TRANSP:TRANSPARENT
X-MICROSOFT-CDO-ALLDAYEVENT:TRUE
SUMMARY:Eagle Wassailfest December 7th - 9th
DESCRIPTION:KNAPP HARVEST is the 8th Annual EAGLE WASSAILMEISTER!\n\n\n\nVisit Participating Businesses December 7-9th* to sample their wassail and vote on the Wassailfest Ballot. Be sure and visit at least 12 of the businesses and vote for them on your Wassailfest Ballot to qualify for the Wassailfest local business gift certificates (while supplies last) AND to be entered into the Grand Prize drawing for the Corn Hole set!\n\n\n\nParticipating Businesses:\n\n\n\nDowntown Eagle\nANTLERS & ROSE'\, 139 Broadway\n\nEVERYDAY OUTFITTERS\, 330 Broadway\, STE B\n\nBATSON'S CORNER\, 301 Broadway\n\nNORTH COAST ORIGINALS\, 228 Broadway\, Unit B\n\nEDWARD JONES\, 129 Broadway\n\nEagleARTS ARTSPaCE gallery+workshop\, 120 Broadway\n\nCAPTURE THE ACTION PRODUCTIONS\, 217 Broadway Happy WassailFest! Connect with us for your videography or photo needs\; ranging from weddings\, real estate\, outdoor adventure\, technical\, interviews\, commercials\, sports\, and bat mitzvahs\; "whatever you would Love to Capture we are here." Please visit our website at https://www.ctavideoproductions.com or email us at info@ctavideoproductions.com in case we are not in the physical office\, when you stop by as we maybe filming    \nDESIGNS BY VIKKI\, 105 Capitol\, Unit 1 Enter into drawing for a fun Wassail tumbler!\n\nNATURAL BALANCE SPA\, 200 Capitol\, STE 201 Serving Wassail Wednesday and Thursday ONLY. 10% of selected products during WassailFest!\n\nRED CANYON CAFE\, 128 Broadway\n\nROAM\, 139 Broadway\, Unit E Reigning Wassail-Meister! Offering something sweet to compliment their Wassail!\n\nTOWN OF EAGLE\, 200 Broadway\n\nMOUNTAIN ANIMAL HOSPITAL CENTER\, 341 Broadway\n\nYETI'S GRIND\, 330 Broadway\, Unit C\n\nFOODsmith\, 318 Broadway Serving Wassail Friday ONLY 10% off all prepared food and Mountain Flour Ice Creams\, Sorbets & Desserts\n\n\n\nChambers Avenue\, Highway 6 and Gypsum\n\nU.S. BANK - Gypsum Branch\, 208 Crestwood Dr.\, GYPSUM U.S. Bank has several attractive promotions going on with its personal and business credit cards and discounted rates for Equipment Quick Loans (through 12/30). We also have some special deposit rates for consumer IRA and business Certificates of Deposit. Please inquire at the branch for more detail.\nGRAND AVENUE GRILL\, 678 Grand Ave\n\nEDWARD JONES\, 35 Lindbergh Dr. #101\, GYPSUM\n\nPAUL DAVIS OF THE ROCKY MOUNTAINS\, 1393 Chambers Ave. Paul Davis 6" Plush Big Paw Bear w/ Paul Davis Shirt for first 15 Wassailers!\n\nSWEET LEAF PIONEER\, 825 A Chambers Ave. 15% off for Wassailers that show their card\n\nALPINE BANK EAGLE\, 0205 Chambers Ave.\n\nPAZZO'S PIZZERIA\, 50 Chambers Ave.\n\n\n\nEagle Ranch\n\n\n\nBERKSHIRE HATHAWAY HOME SERVICES CO. PROPERTIES\, 1140 Capitol St.\n\nSLIFER\, SMITH & FRAMPTON\, 1143 Capitol St. STE 101\n\nKNAPP HARVEST\, 717 Sylvan Lake Rd.\n\nPERIDOT HAIR DESIGN\, 1020 Capitol St. - entrance on Founders Ave. Serving Wassail Wednesday and Thursday ONLY\n\nWhat is Wassail (sounds like 'wassle')?\n\nIn Old English\, the word meant 'be you healthy'\; it came to be known as hot mulled cider\, traditionally drunk during wassailing\, a medieval ritual intended to ensure a good cider apple harvest the following year.\n\n What do you do during Eagle Wassailfest?\n\nDrink Wassail of course   to the 'health' of Eagle! From December 7-9\, participating local Eagle businesses will serve up their own secret version of Wassail.\n\nFrom December 7 - 9\, participating Eagle businesses will serve up their own secret Wassail recipes. Wassailers are encouraged to taste at least 12 different Wassails and then vote for their favorite variety.\n\n\n\nTurn in your card at the WassailFest table during the 2nd Friday ARTwalk on Broadway from 6 - 8 pm on December 9th to vote for your FAVORITE wassail and Eagle's 2022 Wassail-Meister! \n\n\n\nThe business that receives the most participant votes is crowned Eagle's WassailMeister and is awarded the WassailMeister Traveling Trophy.\n\n\n\nVoters that turn in ballots will be entered into a drawing for a Cornhole Set as well as Gift certificates from local businesses while supplies last! \n\n\n\nBe sure to support our AMAZING local businesses when shopping for your Holiday needs and HAVE FUN WASSAILING!!!
X-ALT-DESC;FMTTYPE=text/html:<p style="font-family: Georgia\, 'Times New Roman'\, 'Bitstream Charter'\, Times\, serif\; font-size: 16px\; line-height: 24px\;">&nbsp\;</p>\n\n<p style="font-family: Georgia\, 'Times New Roman'\, 'Bitstream Charter'\, Times\, serif\; font-size: 16px\; line-height: 24px\;"><strong>KNAPP HARVEST is the 8th Annual EAGLE WASSAILMEISTER!<br />\n<br />\nVisit Participating Businesses December 7-9th* to sample their wassail and vote on the Wassailfest Ballot. Be sure and visit at least 12 of the businesses and vote for them on your Wassailfest Ballot to qualify for the Wassailfest local business gift certificates (while supplies last) AND to be entered into the Grand Prize drawing for the Corn Hole set!<br />\n<br />\nParticipating Businesses:<br />\n<br />\n<span style="font-family:arial\;"><em><span style="font-size:12.0pt\;">Downtown Eagle</span></em></span></strong></p>\n<strong>ANTLERS &amp\; ROSE&#39\;</strong>\, 139 Broadway<br />\n<strong>EVERYDAY OUTFITTERS</strong>\, 330 Broadway\, STE B<br />\n<strong>BATSON&#39\;S CORNER</strong>\, 301 Broadway<br />\n<strong>NORTH COAST ORIGINALS</strong>\, 228 Broadway\, Unit B<br />\n<strong>EDWARD JONES</strong>\, 129 Broadway<br />\n<strong>EagleARTS ARTSPaCE gallery+worksho</strong>p\, 120 Broadway\n\n<div style="margin-bottom:0in\;background:white\;"><strong>CAPTURE THE ACTION PRODUCTIONS</strong><span style="color:black\;">\, 217 Broadway </span><span style="background:white\;"><span style="color:#222222\;">Happy WassailFest! Connect with us for your videography or photo needs\; ranging from weddings\, real estate\, outdoor&nbsp\;</span></span><span style="color:#222222\;">adventure\, technical\, interviews\, commercials\, sports\, and bat mitzvahs\;&nbsp\;&quot\;whatever you would Love to Capture we are here.&quot\; Please visit our website at&nbsp\;<a href="https://www.ctavideoproductions.com/" target="_blank"><span style="color:#1155CC\;">https://www.ctavideoproductions.com</span></a>&nbsp\;or email us at&nbsp\;<a href="mailto:info@ctavideoproductions.com" target="_blank"><span style="color:#1155CC\;">info@ctavideoproductions.com</span></a>&nbsp\;in case we are not in the physical&nbsp\;office\, when you stop by as we maybe filming&hellip\;</span> &nbsp\;&nbsp\;</div>\n<strong>DESIGNS BY VIKKI</strong>\, 105 Capitol\, Unit 1 Enter into drawing for a fun Wassail tumbler!<br />\n<strong>NATURAL BALANCE SPA</strong>\, 200 Capitol\, STE 201 Serving Wassail Wednesday and Thursday ONLY. 10% of selected products during WassailFest!<br />\n<strong>RED CANYON CAFE</strong>\, 128 Broadway<br />\n<strong>ROAM</strong>\, 139 Broadway\, Unit E Reigning Wassail-Meister! Offering something sweet to compliment their Wassail!<br />\n<strong>TOWN OF EAGLE</strong>\, 200 Broadway<br />\n<strong>MOUNTAIN ANIMAL HOSPITAL CENTER</strong>\, 341 Broadway<br />\n<strong>YETI&#39\;S GRIND</strong>\, 330 Broadway\, Unit C<br />\n<strong>FOODsmith</strong>\, 318 Broadway Serving Wassail Friday ONLY 10% off all prepared food and Mountain Flour Ice Creams\, Sorbets &amp\; Desserts<br />\n<br />\n<span style="font-family:arial\;"><strong><em><span style="font-size:12.0pt\;">Chambers Avenue\, Highway 6 and Gypsum</span></em></strong></span>\n\n<div style="background:white\;"><strong>U.S. BANK</strong><span style="color:black\;"> - Gypsum Branch\, 208 Crestwood Dr.\, GYPSUM </span><span style="background:white\;"><span style="color:black\;">U.S. Bank has several attractive promotions going on with its personal and business credit cards </span></span><span style="color:black\;">and discounted rates for Equipment Quick Loans (through 12/30). We also have some special deposit rates for consumer IRA and business Certificates of Deposit. Please inquire at the branch for more detail.</span></div>\n<strong>GRAND AVENUE GRILL</strong>\, 678 Grand Ave<br />\n<strong>EDWARD JONES</strong>\, 35 Lindbergh Dr. #101\, GYPSUM<br />\n<strong>PAUL DAVIS OF THE ROCKY MOUNTAINS</strong>\, 1393 Chambers Ave. Paul Davis 6&quot\; Plush Big Paw Bear w/ Paul Davis Shirt for first 15 Wassailers!<br />\n<strong>SWEET LEAF PIONEER</strong>\, 825 A Chambers Ave. 15% off for Wassailers that show their card<br />\n<strong>ALPINE BANK EAGLE</strong>\, 0205 Chambers Ave.<br />\n<strong>PAZZO&#39\;S PIZZERIA</strong>\, 50 Chambers Ave.<br />\n<br />\n<strong><em><span style="font-size:12.0pt\;">Eagle Ranch</span></em></strong><br />\n<br />\n<strong>BERKSHIRE HATHAWAY HOME SERVICES CO. PROPERTIES</strong>\, 1140 Capitol St.<br />\n<strong>SLIFER\, SMITH &amp\; FRAMPTON</strong>\, 1143 Capitol St. STE 101<br />\n<strong>KNAPP HARVEST</strong>\, 717 Sylvan Lake Rd.<br />\n<strong>PERIDOT HAIR DESIGN</strong>\, 1020 Capitol St. - entrance on Founders Ave. Serving Wassail Wednesday and Thursday ONLY\n\n<p style="font-family: Georgia\, 'Times New Roman'\, 'Bitstream Charter'\, Times\, serif\; font-size: 16px\; line-height: 24px\;"><strong>What is Wassail (sounds like &#39\;wassle&#39\;)?</strong></p>\n\n<p style="font-family: Georgia\, 'Times New Roman'\, 'Bitstream Charter'\, Times\, serif\; font-size: 16px\; line-height: 24px\;"><span style="color:#000000\;">In Old English\, the word meant &#39\;be you healthy&#39\;\; it came to be known as hot&nbsp\;</span><a data-mce-href="https://en.wikipedia.org/wiki/Mulling_spices" href="https://en.wikipedia.org/wiki/Mulling_spices"><span style="color:#000000\;">mulled</span></a><span style="color:#000000\;">&nbsp\;</span><a data-mce-href="https://en.wikipedia.org/wiki/Cider" href="https://en.wikipedia.org/wiki/Cider"><span style="color:#000000\;">cider</span></a><span style="color:#000000\;">\, traditionally drunk during&nbsp\;</span><a data-mce-href="https://en.wikipedia.org/wiki/Wassailing" href="https://en.wikipedia.org/wiki/Wassailing"><span style="color:#000000\;">wassailing</span></a><span style="color:#000000\;">\, a medieval ritual intended to ensure a good cider apple harvest the following year.</span></p>\n\n<p style="font-family: Georgia\, 'Times New Roman'\, 'Bitstream Charter'\, Times\, serif\; font-size: 16px\; line-height: 24px\;"><strong>&nbsp\;</strong><strong>What do you do during Eagle Wassailfest?</strong></p>\n\n<p style="font-family: Georgia\, 'Times New Roman'\, 'Bitstream Charter'\, Times\, serif\; font-size: 16px\; line-height: 24px\;"><span style="color:#000000\;"><span style="font-family:times new roman\;"><span style="font-size:16px\;"><span style="font-size:18px\;">Drink Wassail of course</span> </span>&ndash\;</span> to the &lsquo\;h<span style="font-size:16px\;">eal</span>th&rsquo\; of Eagle!&nbsp\;From December 7-9\, participating local Eagle businesses will serve up their own secret version of Wassail.</span></p>\n\n<p style="font-family: Georgia\, 'Times New Roman'\, 'Bitstream Charter'\, Times\, serif\; font-size: 16px\; line-height: 24px\;"><span style="font-size:18px\;"><span style="font-family:times new roman\;"><span style="color:#000000\;">From December 7&nbsp\;- 9\,&nbsp\;participating Eagle businesses will serve up their own secret Wassail recipes. Wassailers&nbsp\;are encouraged to taste at least 12 different Wassails and then vote for their favorite variety.</span></span></span><br />\n<br />\n<span style="font-size:18px\;"><span style="font-family:times new roman\;"><span style="color:#000000\;">Turn in your card at the WassailFest table during the 2nd Friday<strong> ARTwalk</strong> on Broadway from 6 - 8 pm on December 9th to vote for your&nbsp\;FAVORITE wassail and Eagle&rsquo\;s 2022&nbsp\;Wassail-Meister!&nbsp\;</span><br />\n<br />\n<span style="color:#000000\;">The business that receives the most participant votes is crowned Eagle&rsquo\;s WassailMeister and is awarded the WassailMeister Traveling Trophy.</span><br />\n<br />\n<span style="color:#000000\;">Voters that turn in ballots will be entered into a drawing for a Cornhole Set as well as Gift certificates from local businesses while supplies last!&nbsp\;</span><br />\n<br />\n<span style="color:#000000\;">Be sure to support our AMAZING local businesses when shopping for&nbsp\;your Holiday needs and HAVE FUN WASSAILING!!!&nbsp\;</span></span></span></p>\n
LOCATION:Downtown Eagle ANTLERS & ROSE'\, 139 Broadway EVERYDAY OUTFITTERS\, 330 Broadway\, STE B BATSON'S CORNER\, 301 Broadway NORTH COAST ORIGINALS\, 228 Broadway\, Unit B EDWARD JONES\, 129 Broadway EagleARTS ARTSPaCE gallery+workshop\, 120 Broadway CAPTURE THE ACTION PRODUCTIONS\, 217 Broadway Happy WassailFest! Connect with us for your videography or photo needs\; ranging from weddings\, real estate\, outdoor adventure\, technical\, interviews\, commercials\, sports\, and bat mitzvahs\; "whatever you would Love to Capture we are here." Please visit our website at https://www.ctavideoproductions.com or email us at info@ctavideoproductions.com in case we are not in the physical office\, when you stop by as we maybe filming DESIGNS BY VIKKI\, 105 Capitol\, Unit 1 Enter into drawing for a fun Wassail tumbler! NATURAL BALANCE SPA\, 200 Capitol\, STE 201 Serving Wassail Wednesday and Thursday ONLY. 10% of selected products during WassailFest! RED CANYON CAFE\, 128 Broadway ROAM\, 139 Broadway\, Unit E Reigning Wassail-Meister! Offering something sweet to compliment their Wassail! TOWN OF EAGLE\, 200 Broadway MOUNTAIN ANIMAL HOSPITAL CENTER\, 341 Broadway YETI'S GRIND\, 330 Broadway\, Unit C FOODsmith\, 318 Broadway Serving Wassail Friday ONLY 10% off all prepared food and Mountain Flour Ice Creams\, Sorbets & Desserts Chambers Avenue\, Highway 6 and Gypsum U.S. BANK - Gypsum Branch\, 208 Crestwood Dr.\, GYPSUM U.S. Bank has several attractive promotions going on with its personal and business credit cards and discounted rates for Equipment Quick Loans (through 12/30). We also have some special deposit rates for consumer IRA and business Certificates of Deposit. Please inquire at the branch for more detail. GRAND AVENUE GRILL\, 678 Grand Ave EDWARD JONES\, 35 Lindbergh Dr. #101\, GYPSUM PAUL DAVIS OF THE ROCKY MOUNTAINS\, 1393 Chambers Ave. Paul Davis 6" Plush Big Paw Bear w/ Paul Davis Shirt for first 15 Wassailers! SWEET LEAF PIONEER\, 825 A Chambers Ave. 15% off for Wassailers that show their card ALPINE BANK EAGLE\, 0205 Chambers Ave. PAZZO'S PIZZERIA\, 50 Chambers Ave. Eagle Ranch BERKSHIRE HATHAWAY HOME SERVICES CO. PROPERTIES\, 1140 Capitol St. SLIFER\, SMITH & FRAMPTON\, 1143 Capitol St. STE 101 KNAPP HARVEST\, 717 Sylvan Lake Rd. PERIDOT HAIR DESIGN\, 1020 Capitol St. - entrance on Founders Ave. Serving Wassail Wednesday and Thursday ONLY
UID:e.2268.1479
SEQUENCE:3
DTSTAMP:20260425T140638Z
URL:https://business.eaglechamber.co/events/details/eagle-wassailfest-december-7th-9th-1479
END:VEVENT

END:VCALENDAR
