BEGIN:VCALENDAR
VERSION:2.0
PRODID:-//ChamberMaster//Event Calendar 2.0//EN
METHOD:PUBLISH
X-PUBLISHED-TTL:P3D
REFRESH-INTERVAL:P3D
CALSCALE:GREGORIAN
BEGIN:VEVENT
DTSTART:20241207T000000Z
DTEND:20241207T020000Z
X-MICROSOFT-CDO-ALLDAYEVENT:FALSE
SUMMARY:El Sazón Mexican Cuisine's Grand Opening Celebration & Eagle Chamber Ribbon-Cutting
DESCRIPTION:Newly opened El Saz n Mexican Cuisine celebrated their Grand Opening with their staff\, new customers and Eagle Chamber Members on Friday night! Open and welcoming to all\, complimentary appetizers were served to share in the celebration. Everyone had the chance to win a certificate for a complimentary 8-course dinner for 2 at the restaurant and the winning local was honored to receive it! Eagle Chamber Members exclusively received a free adult beverage\, enjoying fresh margaritas. \n\n\n\nCo-owner Rafael Garcia and his partner thanked guests for coming to share this special day with him. "We are enjoying this moment because we see a lot of people come and joined us\, so we're happy! Mi casa is Tu Casa\, our restaurant is a community restaurant. We have Mexican food including tacos\, flautas\, which are only a small part of our menu and we invite you to try more!"\n\n\n\nWith a menu influenced by Mexico's Veracruz and Monterey regions\, relish traditional El Saz n's traditional Mexican cuisine\, designed with the freshest\, handcrafted ingredients by Chef Rafael and his staff. Enjoy an enhanced restaurant experience by receiving personalized service at your table. Your meal unfolds in stages\, creating a flow of flavors and textures that will leave you feeling complete.\n\n\n\nTraditional American and Mexican Breakfast Buffets are served Monday through Saturdays\, and a Specialty Brunch served Sundays.\n\n\n\nEnjoy a full bar menu with your Mixologist crafting specialty drinks of your favorite creations. \n\n\n\nOur community has now been officially introduced to a new style of dining in Eagle with El Saz n!\n\n\n\nSpecial thanks so Eagle Chamber's Ambassadors for welcoming El Saz n\, including Emma Mitchell of Rosa Joy Co.\, Edgar Chair z and Patty Hood of Hood Insurance Agency\, Rhonda and Carol Tatham of First Bank\, Jessie Steinmetz of Edward Jones and Pauline Araujo Agoitia of Always Mountain Time Media.\n\n\n\nWe'd also like to thank Tony Mauro and Alex Ballesteros of Always Mountain Time's KSKE FM Colorado's Ski Country who conducted a live remote\, broadcasting the celebration throughout the valley!
X-ALT-DESC;FMTTYPE=text/html:<br />\n<br />\n<span style="font-size:16px\;"><span style="font-family:arial\;"><span style="color:#696969\;">Newly opened </span><a class="docs-creator" href="https://business.eaglechamber.co/list/member/el-saz%C3%B3n-mexican-cuisine-2860"><span style="color:#0000FF\;">El&nbsp\;Saz&oacute\;n Mexican Cuisine</span></a><span style="color:#696969\;">&nbsp\;celebrated their Grand Opening with their staff\, new customers and Eagle Chamber Members on Friday night! Open and welcoming to all\, complimentary appetizers were served to share in the celebration. Everyone had the chance to win a certificate for a complimentary 8-course dinner for 2 at the restaurant and the winning local was honored to receive it! Eagle Chamber Members exclusively received a free adult beverage\, enjoying fresh margaritas.&nbsp\;<br />\n<br />\nCo-owner Rafael Garcia and his partner </span><a class="docs-creator" href="https://youtube.com/shorts/3d2ntjwmnDw"><span style="color:#0000FF\;">thanked guests</span></a><span style="color:#696969\;"> for coming to share this special day with him. &quot\;We are enjoying this moment because we see a lot of people come and joined us\, so we&#39\;re happy! Mi casa is Tu Casa\, our restaurant is a community restaurant. We have Mexican food including tacos\, flautas\, which are only a small part of our menu and we invite you to try more!&quot\;<br />\n<br />\nWith a menu influenced by Mexico&#39\;s Veracruz and Monterey regions\, relish traditional El <span style="background-color: rgb(255\, 255\, 255)\;">Saz&oacute\;n&#39\;s traditional Mexican cuisine\, designed with the freshest\, handcrafted ingredients by Chef Rafael and his staff. Enjoy an enhanced restaurant experience by receiving personalized service at your table. Your meal unfolds in stages\, creating a flow of flavors and textures that will leave you feeling complete.<br />\n<br />\nTraditional&nbsp\;</span>American and Mexican Breakfast Buffets are served Monday through Saturdays\, and a Specialty Brunch served Sundays.<br />\n<br />\nEnjoy a full bar menu with your Mixologist crafting specialty drinks of your favorite creations.&nbsp\;<br />\n<br />\nOur community has now been officially introduced to a new style of dining in Eagle with El&nbsp\;<span style="background-color: rgb(255\, 255\, 255)\;">Saz&oacute\;n!<br />\n<br />\nSpecial thanks so&nbsp\;Eagle Chamber&#39\;s Ambassadors for welcoming&nbsp\;</span></span></span></span><span style="color: rgb(105\, 105\, 105)\; font-family: arial\; font-size: 16px\; background-color: rgb(255\, 255\, 255)\;">El&nbsp\;Saz&oacute\;n\, including Emma Mitchell of </span><span style="font-family: arial\; font-size: 16px\; background-color: rgb(255\, 255\, 255)\;"><a class="docs-creator" href="https://rosajoyco.com/"><span style="color:#0000FF\;">Rosa Joy Co.</span></a></span><span style="color: rgb(105\, 105\, 105)\; font-family: arial\; font-size: 16px\; background-color: rgb(255\, 255\, 255)\;">\, Edgar&nbsp\;</span><span style="font-size:16px\;"><span style="font-family:arial\;"><span style="color:#696969\;">Chair&eacute\;z and Patty Hood of Hood Insurance Agency\, Rhonda and Carol Tatham of </span><a class="docs-creator" href="https://www.efirstbank.com/"><span style="color:#0000FF\;">First Bank</span></a><span style="color:#696969\;">\, Jessie Steinmetz of </span><a class="docs-creator" href="https://www.edwardjones.com/us-en/financial-advisor/jessie-steinmetz?y_source=1_MjgxOTE2MjYtNzE1LWxvY2F0aW9uLndlYnNpdGU%3D"><span style="color:#0000FF\;">Edward Jones</span></a><span style="color:#696969\;"> and Pauline Araujo Agoitia of </span><a class="docs-creator" href="https://alwaysmountaintime.com/"><span style="color:#0000FF\;">Always Mountain Time Media</span></a><span style="color:#696969\;">.</span></span></span><br />\n<br />\n<span style="font-size:16px\;"><span style="font-family:arial\;"><span style="color:#696969\;"><span style="background-color: rgb(255\, 255\, 255)\;">We&#39\;d also like to thank Tony Mauro and Alex Ballesteros of&nbsp\;</span></span><span style="background-color: rgb(255\, 255\, 255)\;"><a class="docs-creator" href="https://alwaysmountaintime.com/"><span style="color:#0000FF\;">Always Mountain Time&#39\;s</span></a><span style="color:#696969\;"><span style="background-color: rgb(255\, 255\, 255)\;"> </span></span><a class="docs-creator" href="https://alwaysmountaintime.com/kske/on-air/"><span style="color:#0000FF\;">KSKE FM Colorado&#39\;s Ski Country</span></a></span><span style="color:#696969\;"><span style="background-color: rgb(255\, 255\, 255)\;">&nbsp\;who conducted a live remote\, broadcasting the celebration throughout the valley!</span></span></span></span><br />\n<br />\n<br />\n&nbsp\;
LOCATION:Located behind Sweetwater Liquors and next to Green Tree Suites
UID:e.2268.3492
SEQUENCE:3
DTSTAMP:20260423T225036Z
URL:https://business.eaglechamber.co/events/details/el-saz&#243;n-mexican-cuisine-s-grand-opening-celebration-eagle-chamber-ribbon-cutting-3492
END:VEVENT

END:VCALENDAR
