BEGIN:VCALENDAR
VERSION:2.0
PRODID:-//ChamberMaster//Event Calendar 2.0//EN
METHOD:PUBLISH
X-PUBLISHED-TTL:P3D
REFRESH-INTERVAL:P3D
CALSCALE:GREGORIAN
BEGIN:VEVENT
DTSTART:20220914T134500Z
DTEND:20220914T150000Z
X-MICROSOFT-CDO-ALLDAYEVENT:FALSE
SUMMARY:Encore Electric & M-Tech Speaker Series Breakfast Briefing
DESCRIPTION:View the Presentation at the link below:\n\nhttp://file:///H:/3.9.22/Committees/Events/Speaker%20Series/9.14.22/Eagle%20County%20Bold%20Housing%20Moves%20presentation%20Eagle%20Chamber%202022%2009%2014.pdf\n\n\n\nEncore Electric and M-Tech's Speaker Series Events bring Economic Vitality-driven Education and Training to Eagle Chamber Members and the Local Business Community at Large in the Early Morning with Breakfast Included. For this session\, Meghan Scallen and Patti Liermann of Eagle County's Housing Authority will be presenting how Eagle County's 2022 revamped affordable housing programs support our community's workforce housing solutions including:\n\n\n\n- Learn about new/additional resources for renters in Eagle County\n\n- Employees thinking about purchasing a home have several new funds to assist in the home buying process\n\n- More information on free services The Valley Home Store provides\n\n- New programs for homeowners who could add an ADU with a low/no interest loan\n\n\n\nView the Presentation below!\n\nhttp://file:///H:/3.9.22/Committees/Events/Speaker%20Series/9.14.22/Eagle%20County%20Bold%20Housing%20Moves%20presentation%20Eagle%20Chamber%202022%2009%2014.pdf\n\n\n\nThis event is free for Eagle Chamber Members and $10 for non-Members. Space is limited and advance RSVPs are required. \n\n\n\n\n\nSpeaker Series events are held at the private training facility of Encore Electric and M-Tech. Please contact Michelle at the Eagle Chamber for more information on the Speaker Series event at (970) 306-2262 or michelle.morgan@eaglechamber.co.
X-ALT-DESC;FMTTYPE=text/html:<span style="color: rgb(51\, 51\, 51)\; font-family: sans-serif\, Arial\, Verdana\, &quot\;Trebuchet MS&quot\;\; font-size: 14px\;"><span style="font-family: arial\;"><span style="color: rgb(255\, 0\, 0)\;"><span style="background-color: rgb(255\, 255\, 255)\;"><span style="font-size: 18px\;">View the Presentation at the link below:</span></span></span><br />\n<span style="color: rgb(5\, 5\, 5)\; background-color: rgb(255\, 255\, 255)\;"><a href="http://file:///H:/3.9.22/Committees/Events/Speaker%20Series/9.14.22/Eagle%20County%20Bold%20Housing%20Moves%20presentation%20Eagle%20Chamber%202022%2009%2014.pdf" style="color: rgb(7\, 130\, 193)\;">http://file:///H:/3.9.22/Committees/Events/Speaker%20Series/9.14.22/Eagle%20County%20Bold%20Housing%20Moves%20presentation%20Eagle%20Chamber%202022%2009%2014.pdf</a></span></span></span><br />\n<br />\n<span style="font-size:14px\;">Encore Electric and M-Tech&#39\;s Speaker Series Events bring Economic Vitality-driven Education and Training to Eagle Chamber Members and the Local Business Community at Large in the Early Morning with Breakfast Included. For this session\, Meghan Scallen and Patti Liermann of Eagle County&#39\;s Housing Authority will be presenting how Eagle County&#39\;s 2022 revamped affordable housing programs support our community&#39\;s workforce housing solutions including:</span><br />\n<br />\n<span style="font-size:14px\;"><span style="font-family:arial\;"><span style="background-color: rgb(255\, 255\, 255)\;">- Learn about new/additional resources for renters in Eagle County</span><br style="color: rgb(5\, 5\, 5)\; font-family: &quot\;Segoe UI Historic&quot\;\, &quot\;Segoe UI&quot\;\, Helvetica\, Arial\, sans-serif\; font-size: 15px\; background-color: rgb(255\, 255\, 255)\;" />\n<span style="background-color: rgb(255\, 255\, 255)\;">- Employees thinking about purchasing a home have several new funds to assist in the home buying process</span><br style="color: rgb(5\, 5\, 5)\; font-family: &quot\;Segoe UI Historic&quot\;\, &quot\;Segoe UI&quot\;\, Helvetica\, Arial\, sans-serif\; font-size: 15px\; background-color: rgb(255\, 255\, 255)\;" />\n<span style="background-color: rgb(255\, 255\, 255)\;">- More information on free services The Valley Home Store provides</span><br style="color: rgb(5\, 5\, 5)\; font-family: &quot\;Segoe UI Historic&quot\;\, &quot\;Segoe UI&quot\;\, Helvetica\, Arial\, sans-serif\; font-size: 15px\; background-color: rgb(255\, 255\, 255)\;" />\n<span style="background-color: rgb(255\, 255\, 255)\;">- New programs for homeowners who could add an ADU with a low/no interest loan</span><br />\n<br />\n<span style="color:#FF0000\;"><span style="background-color: rgb(255\, 255\, 255)\;"><span style="font-size:18px\;">View the Presentation below!</span></span></span><br />\n<span style="color: rgb(5\, 5\, 5)\; background-color: rgb(255\, 255\, 255)\;"><a href="http://file:///H:/3.9.22/Committees/Events/Speaker%20Series/9.14.22/Eagle%20County%20Bold%20Housing%20Moves%20presentation%20Eagle%20Chamber%202022%2009%2014.pdf">http://file:///H:/3.9.22/Committees/Events/Speaker%20Series/9.14.22/Eagle%20County%20Bold%20Housing%20Moves%20presentation%20Eagle%20Chamber%202022%2009%2014.pdf</a></span></span></span><br />\n<br />\n<span style="font-size:14px\;">This event is free for Eagle Chamber Members and $10 for non-Members. Space is limited and advance RSVPs are required.&nbsp\;<br />\n<br />\n<br />\nSpeaker Series events are held at the private training facility of Encore Electric and M-Tech. Please contact Michelle at the Eagle Chamber for more information on the Speaker Series event at (970) 306-2262 or michelle.morgan@eaglechamber.co.</span>
LOCATION:The Eagle Chamber appreciates Encore Electric and M-Tech Mechanical's accommodation of this event and want to show our appreciation by directing all attendees of this event to do the following: -Park in the back of the building -Enter event through door on the west side of building and walk up the stairs to the training facility -Remain in the training facility (restrooms included) during the event
UID:e.2268.1220
SEQUENCE:3
DTSTAMP:20260425T204556Z
URL:https://business.eaglechamber.co/events/details/encore-electric-m-tech-speaker-series-breakfast-briefing-09-14-2022-1220
END:VEVENT

END:VCALENDAR
