BEGIN:VCALENDAR
VERSION:2.0
PRODID:-//ChamberMaster//Event Calendar 2.0//EN
METHOD:PUBLISH
X-PUBLISHED-TTL:P3D
REFRESH-INTERVAL:P3D
CALSCALE:GREGORIAN
BEGIN:VEVENT
DTSTART:20220810T134500Z
DTEND:20220810T150000Z
X-MICROSOFT-CDO-ALLDAYEVENT:FALSE
SUMMARY:Encore Electric & M-Tech Speaker Series Breakfast Briefing - Cancelled
DESCRIPTION:Encore Electric and M-Tech's Speaker Series Events bring Economic Vitality-driven Education and Training  to Eagle Chamber Members and the Local Business Community at Large on the 2nd Wednesday of each month in the Early Morning with Breakfast Included.\n\n\n\nJoin us on Wednesday\, July 13th\, 2022 to receive a presentation by Eagle Chamber's Advantage Member Growth Solutions Coaching & Academy - Bottom Line Breakthrough for Small Businesses featuring Holly Johnson. Holly presents: Breakthrough Your Hiring Barrier. Discover how creating your business or organization's market dominating position can help you attract qualified employees\, retain staff\, build your team and lead you down the path to increased net profits. \n\n\n\nThis event is free for Eagle Chamber Members and $10 for non-Members. Space is limited and advance RSVPs are required. \n\n\n\nSpeaker Series events are held at the private training facility of Encore Electric and M-Tech.
X-ALT-DESC;FMTTYPE=text/html:Encore Electric and M-Tech&#39\;s Speaker Series Events bring Economic Vitality-driven Education and Training&nbsp\; to Eagle Chamber Members and the Local Business Community at Large on the 2nd Wednesday of each month in the Early Morning with Breakfast Included.<br />\n<br />\nJoin us on Wednesday\, July 13th\, 2022 to receive a presentation by Eagle Chamber&#39\;s Advantage Member Growth Solutions Coaching &amp\; Academy - Bottom Line Breakthrough for Small Businesses featuring Holly Johnson. Holly presents: Breakthrough Your Hiring Barrier. Discover how creating your business or organization&#39\;s market dominating position can help you attract qualified employees\, retain staff\, build your team and lead you down the path to increased net profits.&nbsp\;<br />\n<br />\nThis event is free for Eagle Chamber Members and $10 for non-Members. Space is limited and advance RSVPs are required.&nbsp\;<br />\n<br />\nSpeaker Series events are held at the private training facility of Encore Electric and M-Tech.&nbsp\;
LOCATION:Please be mindful that businesses are operating out of this building during this session and parking is needed for them. Park in the back of the building. Enter through the door on the west side of the building and walk up the stairs to the training facility.
UID:e.2268.1219
SEQUENCE:3
DTSTAMP:20260425T204441Z
URL:https://business.eaglechamber.co/events/details/encore-electric-m-tech-speaker-series-breakfast-briefing-cancelled-1219
END:VEVENT

END:VCALENDAR
