BEGIN:VCALENDAR
VERSION:2.0
PRODID:-//ChamberMaster//Event Calendar 2.0//EN
METHOD:PUBLISH
X-PUBLISHED-TTL:P3D
REFRESH-INTERVAL:P3D
CALSCALE:GREGORIAN
BEGIN:VEVENT
DTSTART:20240723T000000Z
DTEND:20240723T010000Z
X-MICROSOFT-CDO-ALLDAYEVENT:FALSE
SUMMARY:FREE SUMMER BOOTCAMP
DESCRIPTION:Endorphin Eagle is bringing the summer heat with FREE outdoor Bootcamp every Monday from 6-7pm at Eagle Town Park. Bring a water bottle\, towel\, and positive attitude! You do not need to be a member at Endorphin to participate. \n\nAll fitness levels welcome.
X-ALT-DESC;FMTTYPE=text/html:Endorphin Eagle is bringing the summer heat with FREE outdoor Bootcamp every Monday from 6-7pm at Eagle Town Park. Bring a water bottle\, towel\, and positive attitude! You do not need to be a member at Endorphin to participate.&nbsp\;<br />\nAll fitness levels welcome.&nbsp\;
LOCATION:Eagle Town Park 500 Washington St\, Eagle
UID:e.2268.2793
SEQUENCE:3
DTSTAMP:20260424T052241Z
URL:https://business.eaglechamber.co/events/details/free-summer-bootcamp-07-22-2024-2793
END:VEVENT

END:VCALENDAR
