BEGIN:VCALENDAR
VERSION:2.0
PRODID:-//ChamberMaster//Event Calendar 2.0//EN
METHOD:PUBLISH
X-PUBLISHED-TTL:P3D
REFRESH-INTERVAL:P3D
CALSCALE:GREGORIAN
BEGIN:VEVENT
DTSTART:20240711T000000Z
DTEND:20240711T010000Z
X-MICROSOFT-CDO-ALLDAYEVENT:FALSE
SUMMARY:Free Yoga by the River
DESCRIPTION:Endorphin Eagle is excited to offer FREE COMMUNITY YOGA by the river every Wednesday from 6-7pm in the grassy field right behind the Eagle Visitors center. Bring a water\, your mat\, and a positive attitude. All fitness levels welcome. You do not have to be a member of Endorphin to participate.
X-ALT-DESC;FMTTYPE=text/html:Endorphin Eagle is excited to offer FREE COMMUNITY YOGA by the river every Wednesday from 6-7pm in the grassy field right behind the Eagle Visitors center. Bring a water\, your mat\, and a positive attitude. All fitness levels welcome. You do not have to be a member of Endorphin to participate.&nbsp\;
LOCATION:Eagle Visitors Center Backyard by the river 100 Fairgrounds Rd\, Eagle
UID:e.2268.2801
SEQUENCE:3
DTSTAMP:20260424T065138Z
URL:https://business.eaglechamber.co/events/details/free-yoga-by-the-river-07-10-2024-2801
END:VEVENT

END:VCALENDAR
