BEGIN:VCALENDAR
VERSION:2.0
PRODID:-//ChamberMaster//Event Calendar 2.0//EN
METHOD:PUBLISH
X-PUBLISHED-TTL:P3D
REFRESH-INTERVAL:P3D
CALSCALE:GREGORIAN
BEGIN:VEVENT
DTSTART:20240604T060000Z
DTEND:20240608T060000Z
X-MICROSOFT-CDO-ALLDAYEVENT:FALSE
SUMMARY:Habitat ReStore GIANT salebration [2 year anniversary!]
DESCRIPTION:The best resale shop in Eagle County just got better! Visit the Habitat ReStore Vail Valley for its biggest sale of the year. Details to come\, but mark your calendars for this once-a-year sale. \n\n\n\nThe ReStore also sells NEW mattresses\, bedding\, box springs and GreenShein paint. All your home improvement items in one place!
X-ALT-DESC;FMTTYPE=text/html:The best resale shop in Eagle County just got better! Visit the Habitat ReStore Vail Valley for its biggest sale of the year. Details to come\, but mark your calendars for this once-a-year sale.&nbsp\;<br />\n<br />\nThe ReStore also sells NEW mattresses\, bedding\, box springs and GreenShein paint. All your home improvement items in one place!
LOCATION:250 Lindbergh Drive Gypsum\, CO 970.328.1119 www.restorevailvalley.org
UID:e.2268.2809
SEQUENCE:3
DTSTAMP:20260424T083220Z
URL:https://business.eaglechamber.co/events/details/habitat-restore-2nd-anniversary-sale-2809
END:VEVENT

END:VCALENDAR
