BEGIN:VCALENDAR
VERSION:2.0
PRODID:-//ChamberMaster//Event Calendar 2.0//EN
METHOD:PUBLISH
X-PUBLISHED-TTL:P3D
REFRESH-INTERVAL:P3D
CALSCALE:GREGORIAN
BEGIN:VEVENT
DTSTART:20240627T220000Z
DTEND:20240628T000000Z
X-MICROSOFT-CDO-ALLDAYEVENT:FALSE
SUMMARY:Habitat Vail Valley Groundbreaking @ Stratton Flats
DESCRIPTION:Join Habitat for Humanity Vail Valley as we break ground on 16 more homes in Gypsum's Stratton Flats neighborhood. We will celebrate the final stage of Doubling Our Impact and helping 16 families achieve the dream of homeownership. \n\n\n\nThanks to our partners for helping us build more homes + hope:  Vail Board of Realtors\, Town of Gypsum\, Yarnell Consulting\, GPS Designs and Anderson Structural Engineering.
X-ALT-DESC;FMTTYPE=text/html:Join Habitat for Humanity Vail Valley as we break ground on 16 more homes in Gypsum&#39\;s Stratton Flats neighborhood. We will celebrate the final stage of Doubling Our Impact and helping 16 families achieve the dream of homeownership.&nbsp\;<br />\n<br />\nThanks to our partners for helping us build more homes + hope: &nbsp\;Vail Board of Realtors\, Town of Gypsum\, Yarnell Consulting\, GPS Designs and Anderson Structural Engineering.&nbsp\;
LOCATION:Stratton Flats Nighthawk Circle Gypsum\, CO
UID:e.2268.2806
SEQUENCE:3
DTSTAMP:20260424T071258Z
URL:https://business.eaglechamber.co/events/details/habitat-vail-valley-ground-breaking-2806
END:VEVENT

END:VCALENDAR
