BEGIN:VCALENDAR
VERSION:2.0
PRODID:-//ChamberMaster//Event Calendar 2.0//EN
METHOD:PUBLISH
X-PUBLISHED-TTL:P3D
REFRESH-INTERVAL:P3D
CALSCALE:GREGORIAN
BEGIN:VEVENT
DTSTART:20240606T230000Z
DTEND:20240607T010000Z
X-MICROSOFT-CDO-ALLDAYEVENT:FALSE
SUMMARY:Holy Cross Energy Annual Meeting
DESCRIPTION:Holy Cross Energy members- Save the date for our 2024 Annual Meeting! \n\n\n\nWe cordially invite you to join us for a special evening of celebration at our Annual Member Appreciation Dinner! Enjoy live music\, line dancing\, and engaging activities for the whole family\, including pony rides and lawn games. Be sure not to miss the enlightening State of the Co-op presentation and stay tuned for the exciting announcement of the 2024 Board of Directors election results. Plus\, there will be plenty of opportunities to win fantastic door prizes and giveaways. We look forward to welcoming you for an evening filled with fun\, community\, and appreciation.\n\n\n\nHCE Staff will be available to answer questions about our programs and services. You can also cast your vote for the BOD in-person until 6:00 p.m.\n\n\n\nPlease RSVP here!
X-ALT-DESC;FMTTYPE=text/html:<span style="color:#2F4F4F"><span style="font-size:16px"><strong>Holy Cross Energy members- Save the date for our 2024 Annual Meeting!&nbsp\;</strong></span><br />\n<br />\n<span style="font-size:14px"><span style="font-family:söhne\,ui-sans-serif\,system-ui\,-apple-system\,segoe ui\,roboto\,ubuntu\,cantarell\,noto sans\,sans-serif\,helvetica neue\,arial\,apple color emoji\,segoe ui emoji\,segoe ui symbol\,noto color emoji">We cordially invite you to join us for a special evening of celebration at our Annual Member Appreciation Dinner! Enjoy live music\, line dancing\, and engaging activities for the whole family\, including pony rides and lawn games. Be sure not to miss the enlightening State of the Co-op presentation and stay tuned for the exciting announcement of the 2024 Board of Directors election results. Plus\, there will be plenty of opportunities to win fantastic door prizes and giveaways. We look forward to welcoming you for an evening filled with fun\, community\, and appreciation.</span><br />\n<br />\nHCE Staff will be available to answer questions about our programs and services. You can also cast your vote for the BOD in-person until 6:00 p.m.</span></span><br />\n<br />\n<a href="https://www.holycross.com/annual-meeting/"><span style="color:#2F4F4F">Please RSVP here!&nbsp\;</span></a>
LOCATION:4 Eagle Ranch in Wolcott 4098 CO- 131\, Wolcott\, CO 81655
UID:e.2268.2784
SEQUENCE:3
DTSTAMP:20260424T065104Z
URL:https://business.eaglechamber.co/events/details/holy-cross-energy-annual-meeting-2784
END:VEVENT

END:VCALENDAR
