BEGIN:VCALENDAR
VERSION:2.0
PRODID:-//ChamberMaster//Event Calendar 2.0//EN
METHOD:PUBLISH
X-PUBLISHED-TTL:P3D
REFRESH-INTERVAL:P3D
CALSCALE:GREGORIAN
BEGIN:VEVENT
DTSTART:20240627T160000Z
DTEND:20240627T170000Z
X-MICROSOFT-CDO-ALLDAYEVENT:FALSE
SUMMARY:HR Checkup: State & Federal Minimum Wage Laws & Exempt Classifications
DESCRIPTION:HR Checkup: State & Federal Minimum Wage Laws & Exempt Classifications\n\nFacilitated by Northwest Colorado SBDC\n\n\n\nThursday\, June 27 9 am to 10 am\n\nOnline\n\n\n\nTopic: Managing Employees\n\n\n\nJoin Reagan Freed\, Human Resources executive and SBDC consultant\, as she shares her expertise in an open forum setting each month to answer what questions you have related to your small business. These webinars are designed for businesses without an HR representative.\n\n\n\nFee: No Cost\n\n\n\nRegister here:\n\nhttps://clients.coloradosbdc.org/workshop.aspx?ekey=140440010
X-ALT-DESC;FMTTYPE=text/html:<br />\n<br />\n<span style="font-size:16px\;"><span style="font-family:arial\;"><span style="color:#696969\;"><strong><span style="font-size:18px\;">HR Checkup: State &amp\; Federal Minimum Wage Laws &amp\; Exempt Classifications</span></strong><br />\n<span style="background-color: rgb(255\, 255\, 255)\;">Facilitated by Northwest Colorado SBDC</span><br />\n<br />\nThursday\, June 27 9 am to 10 am<br />\nOnline<br />\n<br />\nTopic: Managing Employees<br />\n<br />\nJoin Reagan Freed\, Human Resources executive and SBDC consultant\, as she shares her expertise in an open forum setting each month to answer what questions you have related to your small business. These webinars are designed for businesses without an HR representative.<br />\n<br />\nFee: No Cost<br />\n<br />\nRegister here:</span><br />\n<a href="https://clients.coloradosbdc.org/workshop.aspx?ekey=140440010"><span style="color:#0000FF\;">https://clients.coloradosbdc.org/workshop.aspx?ekey=140440010</span></a></span></span><br />\n&nbsp\;
LOCATION:
UID:e.2268.2813
SEQUENCE:3
DTSTAMP:20260424T064807Z
URL:https://business.eaglechamber.co/events/details/hr-checkup-state-federal-minimum-wage-laws-exempt-classifications-2813
END:VEVENT

END:VCALENDAR
