BEGIN:VCALENDAR
VERSION:2.0
PRODID:-//ChamberMaster//Event Calendar 2.0//EN
METHOD:PUBLISH
X-PUBLISHED-TTL:P3D
REFRESH-INTERVAL:P3D
CALSCALE:GREGORIAN
BEGIN:VEVENT
DTSTART:20241206T003000Z
DTEND:20241206T013000Z
X-MICROSOFT-CDO-ALLDAYEVENT:FALSE
SUMMARY:Ice Castle's Business Community Preparation Meeting
DESCRIPTION:Get Ready to Welcome an Influx of Visitors!\n\nLet's Showcase the Best of the Eagle Business Community!\n\n\n\nThe Eagle Chamber and the Town of Eagle aim to boost community awareness\, business preparedness and opportunities for Town of Eagle collaboration ahead of the upcoming Ice Castle's Exhibit scheduled to take place from late December to early March (weather-permitting) at the Eagle County Fairgrounds. \n\n\n\nThe Eagle Chamber of Commerce and The Collective on Second invite you to join us to share your ideas to help give visitors a warm and memorable welcome to our community. Please join us at The Collective on Second for a Community Brainstorming Forum to share ideas and collaborate on ways to prepare for and welcome visitors. Let's come together to showcase the best of our community. Your insights and creativity are valuable and welcome. We will be discussing an option to develop a business Treasure or Scavenger Hunt to draw visitors into businesses as well. \n\n\n\nPlease click here to view business preparedness ideas and we look forward to seeing you on Thursday\, December 5th at 5:30 pm at The Collective on Second\, located at 139 Broadway Street\, Suite E\, in Eagle. \n\n\n\nVisit the Town of Eagle's Eagle Outside's Ice Castles landing page for more information.
X-ALT-DESC;FMTTYPE=text/html:<br />\n<br />\n<span style="font-size:16px\;"><span style="font-family:arial\;"><strong><span style="font-size:18px\;">Get Ready to Welcome an Influx of Visitors!<br />\nLet&#39\;s Showcase the Best of the Eagle Business Community!</span></strong><br />\n<br />\nThe Eagle Chamber and the Town of Eagle aim to boost community awareness\, business preparedness and opportunities for Town of Eagle collaboration ahead of the upcoming <a href="https://icecastles.com/eagle-colorado/"><span style="color:#0000FF\;">Ice Castle&#39\;s</span></a> Exhibit scheduled to take place from late December to early March (weather-permitting) at the Eagle County Fairgrounds.&nbsp\;<br />\n<br />\nThe Eagle Chamber of Commerce and The Collective on Second invite you to join us to share your ideas to help give visitors a warm and memorable welcome to our community. Please join us at The Collective on Second for a Community Brainstorming Forum to share ideas and collaborate on ways to prepare for and welcome visitors. Let&#39\;s come together to showcase the best of our community. Your insights and creativity are valuable and welcome. We will be discussing an option to develop a business Treasure or Scavenger Hunt to draw visitors into businesses as well.&nbsp\;<br />\n<br />\nPlease click <a href="https://chambermaster.blob.core.windows.net/userfiles/UserFiles/chambers/2268/File/IceCastlesBusinessPreparation.pdf"><span style="color:#0000FF\;">here</span></a> to view business preparedness ideas and we look forward to seeing you on Thursday\, December 5th at 5:30 pm at <a href="https://thecollectiveonsecond.com/?fbclid=PAZXh0bgNhZW0CMTEAAaa7va0MB0ncEBgjei23m8Q0Bz4yDWviTwFLGsusCZi_p46II_0F-0d6Y2s_aem_cVZlBjtBnxyuWmHCrmGOsw"><span style="color:#0000FF\;">The Collective on Second</span></a>\, located at 139 Broadway Street\, Suite E\, in Eagle.&nbsp\;<br />\n<br />\nVisit the <a href="https://eagleoutside.com/illuminate-eagle/"><span style="color:#0000FF\;">Town of Eagle&#39\;s Eagle Outside&#39\;s Ice Castles landing page</span></a> for more information.&nbsp\;</span></span>
LOCATION:Located between Second Street Tavern and Antlers and Rose on second street in Eagle
UID:e.2268.3493
SEQUENCE:3
DTSTAMP:20260423T224939Z
URL:https://business.eaglechamber.co/events/details/ice-castle-s-business-community-preparation-meeting-3493
END:VEVENT

END:VCALENDAR
