BEGIN:VCALENDAR
VERSION:2.0
PRODID:-//ChamberMaster//Event Calendar 2.0//EN
METHOD:PUBLISH
X-PUBLISHED-TTL:P3D
REFRESH-INTERVAL:P3D
CALSCALE:GREGORIAN
BEGIN:VEVENT
DTSTART:20240309T181500Z
DTEND:20240309T205000Z
X-MICROSOFT-CDO-ALLDAYEVENT:FALSE
SUMMARY:Ladies Winter Hike - Grizzly Creek Trail
DESCRIPTION:Let's get together and meet some new female friends. This group social hike is for women between the ages of 30's and 40's.\n\n*Please register so I know who to expect. Registration capped at 16 ladies to keep the group manageable.*\n\nWe'll hike from the Grizzly Creek Trailhead. Let's meet in the rest area parking lot before we head up. ***NOTE: Click on the link to find the actual location of the trail. It is off I-70\, a few minutes BEFORE Glenwood Springs. Google Maps has the accurate location.\n\nPlease arrive by 11:15 am - hike starts promptly at 11:20 am. Plan for 2 hours on the trail total. As always with hikes in Colorado\, you'll want to bring winter boots\, regular hiking boots\, and definitely some ice cleats. The trail has a very slight uphill most of the way\, but we will can stop and look at the scenery as much as we need!\n\nIf weather is suspect\, the hike will be rescheduled. Be sure to register so you get an email if this does happen.\n\nIf you can't attend this one but want an invite to the next\, please subscribe to this event page\, or subscribe to my newsletter here! I'll do these monthly on different trails in the Vail Valley area.
X-ALT-DESC;FMTTYPE=text/html:<p>Let&#39\;s get together and meet some new female friends. This group social hike is for women between the ages of 30&#39\;s and 40&#39\;s.</p>\n\n<p>*Please register so I know who to expect. Registration capped at 16 ladies to keep the group manageable.*</p>\n\n<p>We&#39\;ll hike from the&nbsp\;<a href="https://visitglenwood.com/things-to-do/grizzly-creek/" rel="nofollow noopener noreferrer" style="text-decoration: none\; color: rgb(54\, 89\, 227)\; cursor: pointer\; box-sizing: border-box\; padding-top: 0px\;" target="_blank" title="https://visitglenwood.com/things-to-do/grizzly-creek/">Grizzly Creek Trailhead</a>. Let&#39\;s meet in the rest area parking lot before we head up. ***NOTE: Click on the link to find the actual location of the trail. It is off I-70\, a few minutes BEFORE Glenwood Springs. Google Maps has the accurate location.</p>\n\n<p>Please arrive by 11:15 am - hike starts promptly at 11:20 am. Plan for 2 hours on the trail total. As always with hikes in Colorado\, you&#39\;ll want to bring winter boots\, regular hiking boots\, and definitely some ice cleats. The trail has a very slight uphill most of the way\, but we will can stop and look at the scenery as much as we need!</p>\n\n<p>If weather is suspect\, the hike will be rescheduled. <strong>Be sure to register so you get an email if this does happen.</strong></p>\n\n<p>If you can&#39\;t attend this one but want an invite to the next\, please subscribe to this event page\, or subscribe to my&nbsp\;<a href="http://eepurl.com/hFyQxX" rel="nofollow noopener noreferrer" style="text-decoration: none\; color: rgb(54\, 89\, 227)\; cursor: pointer\; box-sizing: border-box\; padding-top: 0px\;" target="_blank" title="http://eepurl.com/hFyQxX">newsletter here</a>! I&#39\;ll do these monthly on different trails in the Vail Valley area.</p>\n
LOCATION:We'll hike from the Grizzly Creek Trailhead. Let's meet in the rest area parking lot before we head up. ***NOTE: Click on the link to find the actual location of the trail. It is off I-70\, a few minutes BEFORE Glenwood Springs. Google Maps has the accurate location. Grizzly Creek Trailhead: https://visitglenwood.com/things-to-do/grizzly-creek/
UID:e.2268.2647
SEQUENCE:3
DTSTAMP:20260424T155948Z
URL:https://business.eaglechamber.co/events/details/ladies-winter-hike-grizzly-creek-trail-2647
END:VEVENT

END:VCALENDAR
