BEGIN:VCALENDAR
VERSION:2.0
PRODID:-//ChamberMaster//Event Calendar 2.0//EN
METHOD:PUBLISH
X-PUBLISHED-TTL:P3D
REFRESH-INTERVAL:P3D
CALSCALE:GREGORIAN
BEGIN:VEVENT
DTSTART:20240210T181500Z
DTEND:20240210T204500Z
X-MICROSOFT-CDO-ALLDAYEVENT:FALSE
SUMMARY:Ladies Winter Hike - Salt Creek Trail
DESCRIPTION:Let's get together and meet some new female friends. This group social hike is for women between the ages of 30's and 40's.\n\n*Please register so I know who to expect. Registration capped at 16 ladies to keep the group manageable.*\n\nWe'll hike from the Salt Creek Trailhead in Eagle\, Colorado. Please arrive by 11:15 am - hike starts promptly at 11:20 am. Plan for 2 hours on the trail total. As always with hikes in Colorado\, you'll want to bring winter boots\, regular hiking boots\, and maybe even some ice cleats.
X-ALT-DESC;FMTTYPE=text/html:<p>Let&#39\;s get together and meet some new female friends. This group social hike is for women between the ages of 30&#39\;s and 40&#39\;s.</p>\n\n<p>*Please register so I know who to expect. Registration capped at 16 ladies to keep the group manageable.*</p>\n\n<p>We&#39\;ll hike from the&nbsp\;<a href="https://maps.app.goo.gl/fPPnkum4UbebGq6f6" rel="nofollow noopener noreferrer ugc" target="_blank" title="https://maps.app.goo.gl/fPPnkum4UbebGq6f6">Salt Creek Trailhead</a>&nbsp\;in Eagle\, Colorado. Please arrive by 11:15 am - hike starts promptly at 11:20 am. Plan for 2 hours on the trail total. As always with hikes in Colorado\, you&#39\;ll want to bring winter boots\, regular hiking boots\, and maybe even some ice cleats.</p>\n
LOCATION:Salt Creek Trailhead in Eagle\, Colorado - please register for more information
UID:e.2268.2636
SEQUENCE:3
DTSTAMP:20260424T174128Z
URL:https://business.eaglechamber.co/events/details/ladies-winter-hike-salt-creek-trail-2636
END:VEVENT

END:VCALENDAR
