BEGIN:VCALENDAR
VERSION:2.0
PRODID:-//ChamberMaster//Event Calendar 2.0//EN
METHOD:PUBLISH
X-PUBLISHED-TTL:P3D
REFRESH-INTERVAL:P3D
CALSCALE:GREGORIAN
BEGIN:VEVENT
DTSTART:20240620T150000Z
DTEND:20240620T160000Z
X-MICROSOFT-CDO-ALLDAYEVENT:FALSE
SUMMARY:Let's Talk: Starting a Business
DESCRIPTION:Let's Talk: Starting a Business\n\nFacilitated by Northwest Colorado SBDC\n\n\n\n\n\nThursday\, June 20\, 2024 9:00 AM to 10:00 AM Mountain\n\nLocation: Online\n\n\n\n \n\nThis live webinar serves to create an open forum of Q&A\, with interactive conversation among participants and our SBDC Staff and Consultants - it will not be recorded.\n\nNew business? If you are considering starting a new business this year\, join us to learn more about what it is required of business owners. It's not just about having the startup money or having a product that all your friends and family love. Do you have a plan and do you have what it takes to be an owner/entrepreneur?\n\n\n\nRegister here:\n\nhttps://clients.coloradosbdc.org/reg.aspx?mode=event&event=140440058
X-ALT-DESC;FMTTYPE=text/html:<br />\n<span style="font-size:16px\;"><span style="font-family:arial\;"><span style="color:#696969\;"><strong><span style="font-size:18px\;">Let&#39\;s Talk: Starting a Business</span></strong><br />\n<span style="background-color: rgb(255\, 255\, 255)\;">Facilitated by Northwest Colorado SBDC</span><br />\n<br />\n<br />\nThursday\, June 20\, 2024 9:00 AM to 10:00 AM Mountain<br />\nLocation: Online<br />\n<br />\n&nbsp\;<br />\nThis live webinar serves to create an open forum of Q&amp\;A\, with interactive conversation among participants and our SBDC Staff and Consultants -&nbsp\;<em><span style="border:none windowtext 1.0pt\;padding:0in\;">it will not be recorded.</span></em><br />\nNew business? If you are considering starting a new business this year\, join us to learn more about what it is required of business owners. It&#39\;s not just about having the startup money or having a product that all your friends and family love. Do you have a plan and do you have what it takes to be an owner/entrepreneur?<br />\n<br />\nRegister here:</span><br />\n<a href="https://clients.coloradosbdc.org/reg.aspx?mode=event&amp\;event=140440058"><span style="color:#0000FF\;">https://clients.coloradosbdc.org/reg.aspx?mode=event&amp\;event=140440058</span></a></span></span>
LOCATION:
UID:e.2268.2812
SEQUENCE:3
DTSTAMP:20260424T064819Z
URL:https://business.eaglechamber.co/events/details/let-s-talk-starting-a-business-2812
END:VEVENT

END:VCALENDAR
