BEGIN:VCALENDAR
VERSION:2.0
PRODID:-//ChamberMaster//Event Calendar 2.0//EN
METHOD:PUBLISH
X-PUBLISHED-TTL:P3D
REFRESH-INTERVAL:P3D
CALSCALE:GREGORIAN
BEGIN:VEVENT
DTSTART:20240210T000000Z
DTEND:20240210T040000Z
X-MICROSOFT-CDO-ALLDAYEVENT:FALSE
SUMMARY:Murder On Broadway - Can Cook Won't Kill
DESCRIPTION:Join EagleARTS for our award-winning immersive arts experience where Broadway Street in Historic Downtown Eagle will be transformed into the crime scene and you will have the opportunity to hear the alibis of our suspects located inside various businesses and ask them questions before making your guess as to the killer is. Keep an eye out for important clues\, too.\n\nOnce you know whodunnit\, turn in your guess at our after-party at 2nd Street Tavern for food and drinks while waiting to hear whodunnit. Food will be available and guests will receive one drink ticket. Additional beverages will be available for purchase. All correct guesses as to who murdered Al Fresco\, how they did it\, and why will be entered to win one of our fabulous prizes. Themed costumes are encouraged! Don't miss out! Buy your tickets today!\n\nYou can arrive any time before 6:00 and still have time to complete the entire game live. Alibis will also be available to watch via video if you missed any interview session.\n\nEagleARTS' award-winning immersive arts experience\, Murder on Broadway\, is a fundraiser to support our programs supporting local artists.\n\nPresented by Coldwell Banker Distinctive Properties\, Scott Schlosser REALTOR. Additional support provided\, in part\, by the Town of Eagle\, the National Endowment for the Arts\, Colorado Creative Industries\, and generous donors like you.\n\nAlcohol consumption is limited to beverages provided or purchased at the party and must be consumed inside the party venue. No marijuana allowed. Ticket sales are final and non-refundable.
X-ALT-DESC;FMTTYPE=text/html:<p>Join EagleARTS for our award-winning immersive arts experience where Broadway Street in Historic Downtown Eagle will be transformed into the crime scene and you will have the opportunity to hear the alibis of our suspects located inside various businesses and ask them questions before making your guess as to the killer is. Keep an eye out for important clues\, too.</p>\n\n<p>Once you know whodunnit\, turn in your guess at our after-party at 2nd Street Tavern for food and drinks while waiting to hear whodunnit. Food will be available and guests will receive one drink ticket. Additional beverages will be available for purchase. All correct guesses as to who murdered Al Fresco\, how they did it\, and why will be entered to win one of our fabulous prizes. Themed costumes are encouraged! Don&#39\;t miss out! Buy your tickets today!</p>\n\n<p>You can arrive any time before 6:00 and still have time to complete the entire game live. Alibis will also be available to watch via video if you missed any interview session.</p>\n\n<p>EagleARTS&#39\; award-winning immersive arts experience\, Murder on Broadway\, is a fundraiser to support our programs supporting local artists.</p>\n\n<p>Presented by Coldwell Banker Distinctive Properties\, Scott Schlosser REALTOR. Additional support provided\, in part\, by the Town of Eagle\, the National Endowment for the Arts\, Colorado Creative Industries\, and generous donors like you.</p>\n\n<p>Alcohol consumption is limited to beverages provided or purchased at the party and must be consumed inside the party venue. No marijuana allowed. Ticket sales are final and non-refundable.</p>\n
LOCATION:2nd Street Tavern 127 W 2nd St\, Eagle\, CO 81631
UID:e.2268.2642
SEQUENCE:3
DTSTAMP:20260424T172842Z
URL:https://business.eaglechamber.co/events/details/murder-on-broadway-can-cook-won-t-kill-2642
END:VEVENT

END:VCALENDAR
