BEGIN:VCALENDAR
VERSION:2.0
PRODID:-//ChamberMaster//Event Calendar 2.0//EN
METHOD:PUBLISH
X-PUBLISHED-TTL:P3D
REFRESH-INTERVAL:P3D
CALSCALE:GREGORIAN
BEGIN:VEVENT
DTSTART:20220530T140000Z
DTEND:20220530T153000Z
X-MICROSOFT-CDO-ALLDAYEVENT:FALSE
SUMMARY:MURPH at Endorphin Eagle Ranch
DESCRIPTION:Join us at the gym on Monday 5/30 @ 8am for a Memorial Day MURPH Hero WOD. We will be adjusting our schedules accordingly to account for the holiday. \n \n\n In case you're unfamiliar\, "Murph" is a classic CrossFit workout known as a Hero WOD. Hero WOD's are made by CrossFit to honor the men and women that have fallen in the line of duty. This one is specifically to honor Navy Lieutenant Michael Murphy\, who was killed in action in Afghanistan on June 28th\, 2005. \n \n\nThis is a free event that is open to the public\, so invite friends and family to join in helping us honor those who have sacrificed themselves for our country. Join us for a Memorial Day breakfast after the workout prepared by our local MURPH ambassador\, Kevin Brubeck!\n \n\nThis year we would like to show our continued support for Ukraine by donating to a cause called Come Back Alive. Feel free to donate below even if you are unable to attend class.\n \n\nDonate Here
X-ALT-DESC;FMTTYPE=text/html:<p><span style="background-color:transparent\; color:rgb(0\, 0\, 0)\; font-family:arial\; font-size:11pt">Join us at the gym on Monday 5/30 @ 8am for a Memorial Day MURPH Hero WOD. We will be adjusting our schedules accordingly to account for the holiday.&nbsp\;</span></p>\n&nbsp\;\n\n<p><span style="background-color:transparent\; color:rgb(0\, 0\, 0)\; font-family:arial\; font-size:11pt">&nbsp\;</span><span style="font-family:arial\; font-size:11pt">In case you&rsquo\;re unfamiliar\, &ldquo\;Murph&rdquo\; is a classic CrossFit workout known as a </span><em>Hero WOD</em><span style="font-family:arial\; font-size:11pt">. Hero WOD&rsquo\;s are made by CrossFit to honor the men and women that have fallen in the line of duty. This one is specifically to honor Navy Lieutenant Michael Murphy\, who was killed in action in Afghanistan on June 28th\, 2005.&nbsp\;</span></p>\n&nbsp\;\n\n<p><span style="background-color:transparent\; color:rgb(0\, 0\, 0)\; font-family:arial\; font-size:11pt">This is a free event that is open to the public\, so invite friends and family to join in helping us honor those who have sacrificed themselves for our country. Join us for a Memorial Day breakfast after the workout prepared by our local MURPH ambassador\, Kevin Brubeck!</span></p>\n&nbsp\;\n\n<p><span style="background-color:transparent\; color:rgb(0\, 0\, 0)\; font-family:arial\; font-size:11pt">This year we would like to show our continued support for Ukraine by donating to a cause called Come Back Alive. Feel free to donate below even if you are unable to attend class.</span></p>\n&nbsp\;\n\n<p style="text-align:center"><a href="https://www.comebackalive.in.ua/" style="text-decoration-line: none\;"><span style="background-color:transparent\; color:rgb(17\, 85\, 204)\; font-family:arial\; font-size:11pt">Donate Here</span></a></p>\n
LOCATION:717 Sylvan Lake Rd #A Eagle\, CO 81631
UID:e.2268.1180
SEQUENCE:3
DTSTAMP:20260426T015303Z
URL:https://business.eaglechamber.co/events/details/murph-at-endorphin-eagle-ranch-1180
END:VEVENT

END:VCALENDAR
