BEGIN:VCALENDAR
VERSION:2.0
PRODID:-//ChamberMaster//Event Calendar 2.0//EN
METHOD:PUBLISH
X-PUBLISHED-TTL:P3D
REFRESH-INTERVAL:P3D
CALSCALE:GREGORIAN
BEGIN:VEVENT
DTSTART:20150128T150000Z
DTEND:20150128T163000Z
X-MICROSOFT-CDO-ALLDAYEVENT:FALSE
SUMMARY:New Member Breakfast
DESCRIPTION:New Member Breakfast
X-ALT-DESC;FMTTYPE=text/html:<span style="color:#008000\;"><span style="font-size:18px\;"><strong>New Member Breakfast</strong></span></span>
LOCATION:Eagle Town Hall Public Meeting Room 200 Broadway\, Eagle\, Colorado
UID:e.2268.2
SEQUENCE:3
DTSTAMP:20260423T102438Z
URL:https://business.eaglechamber.co/events/details/new-member-breakfast-01-28-2015-2
END:VEVENT

END:VCALENDAR
