BEGIN:VCALENDAR
VERSION:2.0
PRODID:-//ChamberMaster//Event Calendar 2.0//EN
METHOD:PUBLISH
X-PUBLISHED-TTL:P3D
REFRESH-INTERVAL:P3D
CALSCALE:GREGORIAN
BEGIN:VEVENT
DTSTART:20221104T220000Z
DTEND:20221105T000000Z
X-MICROSOFT-CDO-ALLDAYEVENT:FALSE
SUMMARY:North Coast Originals Happy Hour Grand Opening & Ribbon-Cutting
DESCRIPTION:North Coast Originals hosted a fabulous gathering with a generous showing of support from locals for their Happy Hour Grand Opening & Ribbon-Cutting event! Great food & beverages and such wonderful Raffle Giveaways! View a photographic presentation here!
X-ALT-DESC;FMTTYPE=text/html:<a href="https://www.northcoastoriginals.com/">North Coast Originals</a>&nbsp\;hosted a fabulous gathering with a generous showing of support from locals for their Happy Hour Grand Opening &amp\; Ribbon-Cutting event! Great food &amp\; beverages and such wonderful Raffle Giveaways! <strong><span style="color:#FF0000\;">View a photographic presentation </span><a href="https://www.canva.com/design/DAFRH8KVG0M/BKvHJYoprxoC5NpFiIDnUg/watch?utm_content=DAFRH8KVG0M&amp\;utm_campaign=share_your_design&amp\;utm_medium=link&amp\;utm_source=shareyourdesignpanel"><span style="color:#FF0000\;">here</span></a><span style="color:#FF0000\;">!&nbsp\;</span></strong>
LOCATION:North Coast Originals is located where Katch of the Day was previously located\, next to the south end of Eagle Town Hall on Broadway.
UID:e.2268.1476
SEQUENCE:3
DTSTAMP:20260425T173901Z
URL:https://business.eaglechamber.co/events/details/north-coast-originals-happy-hour-grand-opening-ribbon-cutting-1476
END:VEVENT

END:VCALENDAR
