BEGIN:VCALENDAR
VERSION:2.0
PRODID:-//ChamberMaster//Event Calendar 2.0//EN
METHOD:PUBLISH
X-PUBLISHED-TTL:P3D
REFRESH-INTERVAL:P3D
CALSCALE:GREGORIAN
BEGIN:VEVENT
DTSTART;VALUE=DATE:20260420
DTEND;VALUE=DATE:20270421
TRANSP:TRANSPARENT
X-MICROSOFT-CDO-ALLDAYEVENT:TRUE
SUMMARY:Peak PHC Custom Membership Agreements
DESCRIPTION:Peak PHC Custom Membership Agreements are built to fit your property\, your systems\, and your priorities. Instead of a one-size-fits-all plan\, we tailor your agreement around the equipment you rely on most\, so you get the right level of coverage\, maintenance\, and support where it matters. The goal is simple: fewer unexpected issues\, better system performance\, and a more predictable approach to caring for your home or property.\n\nWith a custom agreement\, you're not just reacting to problems\, you're staying ahead of them. You'll benefit from scheduled inspections\, priority service when you need it\, and clear\, upfront pricing on covered work. It's a practical way to reduce downtime\, extend the life of your systems\, and avoid costly surprises.\n\nIf your needs change\, your agreement can evolve with you. Whether you're adding equipment\, managing multiple systems\, or planning for long-term reliability\, Peak PHC works with you to keep your membership aligned with how your property actually operates.
X-ALT-DESC;FMTTYPE=text/html:<p>Peak PHC Custom Membership Agreements are built to fit your property\, your systems\, and your priorities. Instead of a one-size-fits-all plan\, we tailor your agreement around the equipment you rely on most\, so you get the right level of coverage\, maintenance\, and support where it matters. The goal is simple: fewer unexpected issues\, better system performance\, and a more predictable approach to caring for your home or property.</p>\n\n<p>With a custom agreement\, you&rsquo\;re not just reacting to problems\, you&rsquo\;re staying ahead of them. You&rsquo\;ll benefit from scheduled inspections\, priority service when you need it\, and clear\, upfront pricing on covered work. It&rsquo\;s a practical way to reduce downtime\, extend the life of your systems\, and avoid costly surprises.</p>\n\n<p>If your needs change\, your agreement can evolve with you. Whether you&rsquo\;re adding equipment\, managing multiple systems\, or planning for long-term reliability\, Peak PHC works with you to keep your membership aligned with how your property actually operates.</p>\n
LOCATION:Serving Eagle County\, Summit County\, and surrounding areas.
UID:e.2268.3766
SEQUENCE:3
DTSTAMP:20260420T212134Z
URL:https://business.eaglechamber.co/events/details/peak-phc-custom-membership-agreements-3766
END:VEVENT

END:VCALENDAR
