BEGIN:VCALENDAR
VERSION:2.0
PRODID:-//ChamberMaster//Event Calendar 2.0//EN
METHOD:PUBLISH
X-PUBLISHED-TTL:P3D
REFRESH-INTERVAL:P3D
CALSCALE:GREGORIAN
BEGIN:VEVENT
DTSTART;VALUE=DATE:20220602
DTEND;VALUE=DATE:20220605
TRANSP:TRANSPARENT
X-MICROSOFT-CDO-ALLDAYEVENT:TRUE
SUMMARY:Restore Habitat for Humanity Grand Opening
DESCRIPTION:Habitat Restore Vail Valley is holding a Grand Opening Celebration!\n\nThursday\, June 2nd: Ribbon-Cutting and Gift with Purchase\n\nFriday\, June 3rd: Bouncy House\, Face Painting and Spin the Prize Wheel\n\nSaturday\, June 4th: Cars + Coffee\, Rocky Mountain Taco Truck and Buy More\, Save More Sale\n\n\n\nGIVEAWAYS AND DEALS ALL WEEKEND!
X-ALT-DESC;FMTTYPE=text/html:Habitat Restore Vail Valley is holding a Grand Opening Celebration!<br />\nThursday\, June 2nd: Ribbon-Cutting and Gift with Purchase<br />\nFriday\, June 3rd: Bouncy House\, Face Painting and Spin the Prize Wheel<br />\nSaturday\, June 4th: Cars + Coffee\, Rocky Mountain Taco Truck and Buy More\, Save More Sale<br />\n<br />\nGIVEAWAYS AND DEALS ALL WEEKEND!
LOCATION:250 Lindbergh Drive in Gypsum
UID:e.2268.1215
SEQUENCE:3
DTSTAMP:20260426T002918Z
URL:https://business.eaglechamber.co/events/details/restore-habitat-for-humanity-grand-opening-1215
END:VEVENT

END:VCALENDAR
