BEGIN:VCALENDAR
VERSION:2.0
PRODID:-//ChamberMaster//Event Calendar 2.0//EN
METHOD:PUBLISH
X-PUBLISHED-TTL:P3D
REFRESH-INTERVAL:P3D
CALSCALE:GREGORIAN
BEGIN:VEVENT
DTSTART;VALUE=DATE:20270521
DTEND;VALUE=DATE:20270522
TRANSP:TRANSPARENT
X-MICROSOFT-CDO-ALLDAYEVENT:TRUE
SUMMARY:Screaming Eagle Golf Tournament
DESCRIPTION:20th Annual Screaming Eagle Golf Tournament hosted by the Eagle Chamber of Commerce with the Screaming Eagle Scholarship Fund as the primary beneficiary.
X-ALT-DESC;FMTTYPE=text/html:<span style="color:#008000\;"><span style="font-size:26px\;"><strong><span style="font-size:18px\;">20<sup>th</sup></span><span style="font-family:verdana\;"><span style="font-size:18px\;"> Annual&nbsp\;Screaming Eagle Golf Tournament</span></span></strong><span style="font-size:18px\;"> </span></span></span>hosted by the Eagle Chamber of Commerce with the Screaming Eagle Scholarship Fund as the primary beneficiary.
LOCATION:Eagle Ranch Golf Club 50 Lime Park\, Eagle\, CO
UID:e.2268.692
SEQUENCE:3
DTSTAMP:20260419T212656Z
URL:https://business.eaglechamber.co/events/details/screaming-eagle-golf-tournament-05-21-2027-692
END:VEVENT

END:VCALENDAR
