BEGIN:VCALENDAR
VERSION:2.0
PRODID:-//ChamberMaster//Event Calendar 2.0//EN
METHOD:PUBLISH
X-PUBLISHED-TTL:P3D
REFRESH-INTERVAL:P3D
CALSCALE:GREGORIAN
BEGIN:VEVENT
DTSTART:20240309T000000Z
DTEND:20240309T030000Z
X-MICROSOFT-CDO-ALLDAYEVENT:FALSE
SUMMARY:Second Friday Gallery Night
DESCRIPTION:Join the Vail Valley Art Guild for Second Friday Gallery Night featuring work from local artists and photographers.  The theme for March is "Emotions" and "Red".  \n\n\n\nLight refreshments are provided.
X-ALT-DESC;FMTTYPE=text/html:Join the Vail Valley Art Guild for Second Friday Gallery Night featuring work from local artists and photographers.&nbsp\; The theme for March is &quot\;Emotions&quot\; and &quot\;Red&quot\;.&nbsp\;&nbsp\;<br />\n<br />\nLight refreshments are provided.
LOCATION:108 W. Second Street Eagle\, Colorado 81631
UID:e.2268.2645
SEQUENCE:3
DTSTAMP:20260424T155348Z
URL:https://business.eaglechamber.co/events/details/second-friday-gallery-night-2645
END:VEVENT

END:VCALENDAR
