BEGIN:VCALENDAR
VERSION:2.0
PRODID:-//ChamberMaster//Event Calendar 2.0//EN
METHOD:PUBLISH
X-PUBLISHED-TTL:P3D
REFRESH-INTERVAL:P3D
CALSCALE:GREGORIAN
BEGIN:VEVENT
DTSTART:20230105T230000Z
DTEND:20230106T010000Z
X-MICROSOFT-CDO-ALLDAYEVENT:FALSE
SUMMARY:Social Oak Wine Ribbon-Cutting Celebration
DESCRIPTION:Help Social Oak Wine celebrate their Grand Opening & Ribbon-Cutting celebration! Join us for a celebratory Happy Hour from 4 to 6 pm and the Eagle Chamber Ribbon-Cutting at 5 pm!
X-ALT-DESC;FMTTYPE=text/html:Help Social Oak Wine celebrate their Grand Opening &amp\; Ribbon-Cutting celebration! Join us for a celebratory Happy Hour from 4 to 6 pm and the Eagle Chamber Ribbon-Cutting at 5 pm!
LOCATION:Eagle Ranch Village
UID:e.2268.1494
SEQUENCE:3
DTSTAMP:20260425T122200Z
URL:https://business.eaglechamber.co/events/details/social-oak-wine-ribbon-cutting-celebration-1494
END:VEVENT

END:VCALENDAR
