BEGIN:VCALENDAR
VERSION:2.0
PRODID:-//ChamberMaster//Event Calendar 2.0//EN
METHOD:PUBLISH
X-PUBLISHED-TTL:P3D
REFRESH-INTERVAL:P3D
CALSCALE:GREGORIAN
BEGIN:VEVENT
DTSTART:20240618T150000Z
DTEND:20240618T160000Z
X-MICROSOFT-CDO-ALLDAYEVENT:FALSE
SUMMARY:Special Event Sales Tax License
DESCRIPTION:Special Events Sales Tax Education\n\nFacilitated by Colorado Department of Revenue Taxation Division\n\n\n\n\n\nDate & Time\n\nJun 18\, 2024 09:00 AM in Mountain Time (US and Canada)\n\n\n\nDescription\n\n\n\nThis webinar is for Colorado businesses and individuals\, entities doing business in Colorado\, and business tax professionals. We will provide an introduction to special event sales tax\, licensing\, filing\, and remittance requirements. This webinar is scheduled to last approximately 1 hour. This webinar is eligible for 1 CPE credit. Throughout the body of the webinar\, three individual\, unique codewords will appear on the screen and be spoken out loud. To earn your CPE credit\, you must enter the three correct codewords into the final poll at the end of the webinar. The codewords are not case-sensitive.\n\n\n\nRegister here:\n\nhttps://us02web.zoom.us/webinar/register/WN_qojboDNXRC-SGhgbClbAkQ#/registration
X-ALT-DESC;FMTTYPE=text/html:<br />\n<br />\n<span style="font-family:arial\;"><span style="color:#696969\;"><span style="font-size:18px\;"><strong>Special Events Sales Tax Education</strong></span></span><br />\n<span style="font-size:16px\;"><span style="color:#696969\;">Facilitated by Colorado Department of Revenue Taxation Division<br />\n<br />\n<br />\nDate &amp\; Time<br />\nJun 18\, 2024 09:00 AM&nbsp\;in&nbsp\;Mountain Time (US and Canada)<br />\n<br />\nDescription<br />\n<br />\nThis webinar is for Colorado businesses and individuals\, entities doing business in Colorado\, and business tax professionals. We will provide an introduction to special event sales tax\, licensing\, filing\, and remittance requirements. This webinar is scheduled to last approximately 1 hour. This webinar is eligible for 1 CPE credit. Throughout the body of the webinar\, three individual\, unique codewords will appear on the screen and be spoken out loud. To earn your CPE credit\, you must enter the three correct codewords into the final poll at the end of the webinar. The codewords are not case-sensitive.<br />\n<br />\nRegister here:</span><br />\n<a href="https://us02web.zoom.us/webinar/register/WN_qojboDNXRC-SGhgbClbAkQ#/registration"><span style="color:#0000FF\;">https://us02web.zoom.us/webinar/register/WN_qojboDNXRC-SGhgbClbAkQ#/registration</span></a></span></span>
LOCATION:
UID:e.2268.2811
SEQUENCE:3
DTSTAMP:20260424T065059Z
URL:https://business.eaglechamber.co/events/details/special-event-sales-tax-license-2811
END:VEVENT

END:VCALENDAR
