BEGIN:VCALENDAR
VERSION:2.0
PRODID:-//ChamberMaster//Event Calendar 2.0//EN
METHOD:PUBLISH
X-PUBLISHED-TTL:P3D
REFRESH-INTERVAL:P3D
CALSCALE:GREGORIAN
BEGIN:VEVENT
DTSTART:20220721T230000Z
DTEND:20220722T010000Z
X-MICROSOFT-CDO-ALLDAYEVENT:FALSE
SUMMARY:Third Thursday Mixer - Cancelled
DESCRIPTION:The Eagle Chamber's July 21st After Hours Mixer has been canceled.
X-ALT-DESC;FMTTYPE=text/html:The Eagle Chamber&#39\;s July 21st After Hours Mixer has been canceled.&nbsp\;
LOCATION:
UID:e.2268.1172
SEQUENCE:3
DTSTAMP:20260425T223833Z
URL:https://business.eaglechamber.co/events/details/third-thursday-mixer-cancelled-1172
END:VEVENT

END:VCALENDAR
