BEGIN:VCALENDAR
VERSION:2.0
PRODID:-//ChamberMaster//Event Calendar 2.0//EN
METHOD:PUBLISH
X-PUBLISHED-TTL:P3D
REFRESH-INTERVAL:P3D
CALSCALE:GREGORIAN
BEGIN:VEVENT
DTSTART:20220818T230000Z
DTEND:20220819T010000Z
X-MICROSOFT-CDO-ALLDAYEVENT:FALSE
SUMMARY:Third Thursday Mixer Featuring ARTSPaCE workshop+gallery and SecurityNational Mortgage Company - Bonnie Marlette
DESCRIPTION:Everyone enjoyed this summer evening on Broadway with the producers of the ARTwalkEagle\, ARTSPaCE workshop+gallery! This event is co-hosted by SecurityNational Mortgage Company - Bonnie Marlette! Live acoustic act\, food & beverages\, art projects\, networking and more. Foodsmith provided a beautiful and delicious spread of foodie delights! \n\n\n\nTara's vision to vitalize Broadway began more than 5 years earlier and began to work with the Town of Eagle and the Eagle Chamber to attract more people to downtown Eagle by way of her passion - Art. Jennifer Filipowski joined the effort in 2020 and now you will find art every day of the week on Broadway through ARTSPaCE workshop+gallery\, the Artist Guild and popular ARTwalkEagle that takes place on the 2nd Friday of every month.\n\n\n\nBonnie Marlette works with existing and new homeowners to deliver all of the available mortgage options locals and newcomers alike. Bonnie works with Eagle County Affordable Housing options with existing and first time homebuyers as well.
X-ALT-DESC;FMTTYPE=text/html:Everyone enjoyed this summer evening on Broadway with the producers of the ARTwalkEagle\, ARTSPaCE workshop+gallery! This event is co-hosted by SecurityNational Mortgage Company - Bonnie Marlette! Live acoustic act\, food &amp\; beverages\, art projects\, networking and more. Foodsmith provided a beautiful and delicious spread of foodie delights!&nbsp\;<br />\n<br />\nTara&#39\;s vision to vitalize Broadway began more than 5 years earlier and began to work with the Town of Eagle and the Eagle Chamber to attract more people to downtown Eagle by way of her passion - Art. Jennifer Filipowski joined the effort in 2020 and now you will find art every day of the week on Broadway through ARTSPaCE workshop+gallery\, the Artist Guild and popular ARTwalkEagle that takes place on the 2nd Friday of every month.<br />\n<br />\nBonnie Marlette works with existing and new homeowners to deliver all of the available mortgage options locals and newcomers alike. Bonnie works with Eagle County Affordable Housing options with existing and first time homebuyers as well.&nbsp\;<br />\n<br />\n&nbsp\;
LOCATION:ARTSPaCE workshop+gallery on Broadway in Eagle
UID:e.2268.1173
SEQUENCE:3
DTSTAMP:20260425T204718Z
URL:https://business.eaglechamber.co/events/details/third-thursday-mixer-featuring-artspace-workshop-gallery-and-securitynational-mortgage-company-bonnie-marlette-1173
END:VEVENT

END:VCALENDAR
