BEGIN:VCALENDAR
VERSION:2.0
PRODID:-//ChamberMaster//Event Calendar 2.0//EN
METHOD:PUBLISH
X-PUBLISHED-TTL:P3D
REFRESH-INTERVAL:P3D
CALSCALE:GREGORIAN
BEGIN:VEVENT
DTSTART:20220616T230000Z
DTEND:20220617T010000Z
X-MICROSOFT-CDO-ALLDAYEVENT:FALSE
SUMMARY:Third Thursday Mixer Featuring Comerford Insurance Agency & Taste of Eagle Crossing with Pazzo's Pizzeria\, Casa Mexico\, ANB Bank and Zen Blossom
DESCRIPTION:The motivated teams of Comerford Insurance Agency\, Pazzo's Pizzeria\, Casa Mexico\, ANB Bank and Zen Blossom set up a great event for the Eagle Chamber's A Taste of Eagle Crossing 2022! Thank you for providing. Pazzo's and Casa Mexico laid out plenty of delicious food while Comerford Insurance Agency served drinks. Live music by Alan Echtler and Ray Merry and many wonderful giveaways! A complimentary 45 minute stress relief massage was won and everyone enjoyed being together again! Lots of new faces\, too!
X-ALT-DESC;FMTTYPE=text/html:The motivated teams of Comerford Insurance Agency\, Pazzo&#39\;s Pizzeria\, Casa Mexico\, ANB Bank and Zen Blossom set up a great event for the Eagle Chamber&#39\;s A Taste of Eagle Crossing 2022! Thank you for providing. Pazzo&#39\;s and Casa Mexico laid out plenty of delicious food while Comerford Insurance Agency served drinks. Live music by Alan Echtler and Ray Merry and many wonderful giveaways! A complimentary 45 minute stress relief massage was won and everyone enjoyed being together again! Lots of new faces\, too!
LOCATION:Eagle Crossing Shopping Center in Eagle. Please park at the Eagle Information Center located at 100 Fairgrounds Rd\, just northwest of the shopping center. This will ensure Chamber Mixer traffic does not interfere with regular business.
UID:e.2268.1171
SEQUENCE:3
DTSTAMP:20260426T003342Z
URL:https://business.eaglechamber.co/events/details/third-thursday-mixer-featuring-comerford-insurance-agency-taste-of-eagle-crossing-with-pazzo-s-pizzeria-casa-mexico-anb-bank-and-zen-blossom-1171
END:VEVENT

END:VCALENDAR
