BEGIN:VCALENDAR
VERSION:2.0
PRODID:-//ChamberMaster//Event Calendar 2.0//EN
METHOD:PUBLISH
X-PUBLISHED-TTL:P3D
REFRESH-INTERVAL:P3D
CALSCALE:GREGORIAN
BEGIN:VEVENT
DTSTART:20220421T233000Z
DTEND:20220422T013000Z
X-MICROSOFT-CDO-ALLDAYEVENT:FALSE
SUMMARY:Third Thursday Mixer Featuring Edward Jones
DESCRIPTION:Edward Jones is B L O O M I N G ! Jessie Steinmetz has joined the team with Charlie Wick! We got to see the whole down-valley crew and enjoy L I V E M U S I C with "Buck Wise & The Investments" featuring Alan Echtler\, Ray Merry and special guest Penny Pincher! Appetites were satisfied\, taste buds were celebrating and whistles were wet with appetizers and drinks for everyone. The first 30 guests received a blooming vegetable tote! Sandy LaBaugh of US Bank won the Igloo cooler! EAGLE CHAMBER'S THIRD THURSDAY MIXERS ARE BACK and we're enjoying seeing everyone again!
X-ALT-DESC;FMTTYPE=text/html:<span style="color: rgb(51\, 51\, 51)\; font-family: sans-serif\, Arial\, Verdana\, &quot\;Trebuchet MS&quot\;\; font-size: 13px\; background-color: rgb(255\, 255\, 255)\;">Edward Jones is B L O O M I N G ! Jessie Steinmetz has joined the team with Charlie Wick! We got to see the whole down-valley crew and enjoy L I V E M U S I C with &quot\;Buck Wise &amp\; The Investments&quot\; featuring Alan Echtler\, Ray Merry and special guest Penny Pincher! Appetites were satisfied\, taste buds were celebrating and whistles were wet with appetizers and drinks for everyone. The first 30 guests received a blooming vegetable tote! Sandy LaBaugh of US Bank won the Igloo cooler! EAGLE CHAMBER&#39\;S THIRD THURSDAY MIXERS ARE BACK&nbsp\;</span><span style="color: rgb(51\, 51\, 51)\; font-family: sans-serif\, Arial\, Verdana\, &quot\;Trebuchet MS&quot\;\; font-size: 13px\; background-color: rgb(255\, 255\, 255)\;">and we&#39\;re enjoying seeing everyone again!&nbsp\;</span>
LOCATION:35 Lindbergh Drive\, Suite 101\, Gypsum\, Colorado 81637
UID:e.2268.1166
SEQUENCE:3
DTSTAMP:20260426T034706Z
URL:https://business.eaglechamber.co/events/details/third-thursday-mixer-featuring-edward-jones-1166
END:VEVENT

END:VCALENDAR
