BEGIN:VCALENDAR
VERSION:2.0
PRODID:-//ChamberMaster//Event Calendar 2.0//EN
METHOD:PUBLISH
X-PUBLISHED-TTL:P3D
REFRESH-INTERVAL:P3D
CALSCALE:GREGORIAN
BEGIN:VEVENT
DTSTART:20220519T233000Z
DTEND:20220520T013000Z
X-MICROSOFT-CDO-ALLDAYEVENT:FALSE
SUMMARY:Third Thursday Mixer Featuring The Ladies of 139 Broadway
DESCRIPTION:Eagle Chamber Members R O A M E D through an elegant dinner excursion through each location of the Ladies of 139 Broadway.  Attendees began at R O A M  E A G L E with Bubbles\, Charcuterie and Networking. Owners of ROAM EAGLE\, Antlers and Ros  and Nurture Skin and Body each generously gifted raffle winners with certificates and products from their respective businesses.\n\n\n\nR O A M  E A G L E owner Adrienne Cavallario greeted the group and gave a heartfelt presentation of her inspiration to open R O A M  E A G L E after Andy Jessen\, a beloved local and owner of Bonfire Brewing  encouraged her\, prior to his passing. Adrienne's graceful nature permeated the atmosphere of the Eagle Chamber Mixer experience while Chamber Members and their guests enjoyed a relaxed happy hour on the R O A M patio.  \n\n\n\nGuests then mingled over to Antler's and Ros  for Spanakopita w/tzatziki sauce and Ros . Brook Richards\, owner of the Antler's and Ros \, accommodated guests in the realm of  her characteristic feminine-refined clothing boutique which caters to the Colorado lifestyle for women. \n\n\n\nEagle Chamber Members and their guests finished off the evening up close and personal with Nurture Skin & Body owner Roni Sheldon as she demonstrated her passion for nurturing the Eagle community with her 23 years of experience in the wellness industry. Members enjoyed sweet eats\, beverages and conversation while many grateful shoppers took advantage of Roni's generous Chamber discount for the evening.
X-ALT-DESC;FMTTYPE=text/html:<span style="font-size:14px\;"><span style="font-family:arial\;">Eagle Chamber Members R O A M E D through an elegant dinner excursion through each location of the Ladies of 139 Broadway.&nbsp\; Attendees began at R O A M&nbsp\; E A G L E with Bubbles\,&nbsp\;Charcuterie and Networking. Owners of ROAM EAGLE\, Antlers and Ros&eacute\; and Nurture Skin and Body&nbsp\;each generously gifted raffle winners with certificates and products from their respective businesses.<br />\n<br />\nR O A M&nbsp\; E A G L E owner Adrienne <span style="color: rgb(51\, 51\, 51)\; background-color: rgb(240\, 240\, 240)\;">Cavallario&nbsp\;</span>greeted the group and gave a heartfelt presentation of her inspiration to open R O A M&nbsp\; E A G L E after Andy Jessen\, a beloved local and owner of Bonfire Brewing&nbsp\; encouraged her\, prior to his passing. Adrienne&#39\;s graceful nature permeated the atmosphere of the Eagle Chamber Mixer experience while Chamber Members and their guests enjoyed a relaxed happy hour on the R O A M patio.&nbsp\;&nbsp\;<br />\n<br />\nGuests then mingled over to Antler&#39\;s and Ros&eacute\; for&nbsp\;Spanakopita w/tzatziki sauce and&nbsp\;<span style="color: rgb(51\, 51\, 51)\; background-color: rgb(255\, 255\, 255)\;">Ros&eacute\;. Brook Richards\, owner of the Antler&#39\;s and Ros&eacute\;\, accommodated guests in the realm of&nbsp\; her characteristic feminine-refined clothing boutique which caters to the Colorado lifestyle for women</span>.&nbsp\;<br />\n<br />\n<span style="color: rgb(51\, 51\, 51)\; background-color: rgb(255\, 255\, 255)\;">Eagle Chamber Members and their guests finished off the evening up close and personal with Nurture Skin &amp\; Body owner Roni Sheldon as she demonstrated her passion for nurturing the Eagle community with her 23 years of experience in the wellness industry. Members enjoyed sweet eats\, beverages and conversation while many grateful shoppers took advantage of Roni&#39\;s generous Chamber discount for the evening.&nbsp\; &nbsp\;</span></span></span>
LOCATION:
UID:e.2268.1170
SEQUENCE:3
DTSTAMP:20260426T021455Z
URL:https://business.eaglechamber.co/events/details/third-thursday-mixer-featuring-the-ladies-of-139-broadway-1170
END:VEVENT

END:VCALENDAR
