BEGIN:VCALENDAR
VERSION:2.0
PRODID:-//ChamberMaster//Event Calendar 2.0//EN
METHOD:PUBLISH
X-PUBLISHED-TTL:P3D
REFRESH-INTERVAL:P3D
CALSCALE:GREGORIAN
BEGIN:VEVENT
DTSTART:20221020T230000Z
DTEND:20221021T010000Z
X-MICROSOFT-CDO-ALLDAYEVENT:FALSE
SUMMARY:Third Thursday Mixer - Joint with Gypsum Chamber and Featuring Habitat for Humanity Vail Valley\, Vail Honeywagon and Hood Insurance Agency
DESCRIPTION:Thanks to all who joined us to help celebrate Restore Habitat Vail Valley's NEW LOCATION in Gypsum! Halloween tricks and treats were featured by Vail Honeywagon\, great giveaways by Hood Insurance Agency and delicious appetizers tastefully served by all your friends at Restore! This beautiful new store looks\n\nA-M-A-Z-I-N-G! Filled with high quality furnishings\, come and check out Restore's new showrooms\, which seem to never end! Thank you to everyone who supports Restore Habitat Vail Valley throughout the year.
X-ALT-DESC;FMTTYPE=text/html:Thanks to all who joined us to help celebrate Restore Habitat Vail Valley&#39\;s NEW LOCATION in Gypsum! Halloween tricks and treats were featured by Vail Honeywagon\, great giveaways by Hood Insurance Agency and delicious appetizers tastefully served by all your friends at Restore! This beautiful new store looks<br />\nA-M-A-Z-I-N-G! Filled with high quality furnishings\, come and check out Restore&#39\;s new showrooms\, which seem to never end! Thank you to everyone who supports Restore Habitat Vail Valley throughout the year.&nbsp\;\n<p style="box-sizing: border-box\; margin: 0px 0px 20px\; padding: 0px\; border: 0px\; vertical-align: baseline\; font-size: 17px\; overflow-wrap: break-word\; font-family: Lato\; color: rgb(61\, 61\, 61)\; line-height: 1.66em\; background-color: rgb(33\, 33\, 33)\;">&nbsp\;</p>\n
LOCATION:Restore Habitat's new location at 250 Lindbergh Drive in Gypsum
UID:e.2268.1176
SEQUENCE:3
DTSTAMP:20260425T173952Z
URL:https://business.eaglechamber.co/events/details/third-thursday-mixer-joint-with-gypsum-chamber-and-featuring-habitat-for-humanity-vail-valley-vail-honeywagon-and-hood-insurance-agency-1176
END:VEVENT

END:VCALENDAR
